BEGIN:VCALENDAR
VERSION:2.0
PRODID:-//Adirondack North Country Gender Alliance - ECPv6.15.20//NONSGML v1.0//EN
CALSCALE:GREGORIAN
METHOD:PUBLISH
X-ORIGINAL-URL:https://adkncga.org
X-WR-CALDESC:Events for Adirondack North Country Gender Alliance
REFRESH-INTERVAL;VALUE=DURATION:PT1H
X-Robots-Tag:noindex
X-PUBLISHED-TTL:PT1H
BEGIN:VTIMEZONE
TZID:America/New_York
BEGIN:DAYLIGHT
TZOFFSETFROM:-0500
TZOFFSETTO:-0400
TZNAME:EDT
DTSTART:20230312T070000
END:DAYLIGHT
BEGIN:STANDARD
TZOFFSETFROM:-0400
TZOFFSETTO:-0500
TZNAME:EST
DTSTART:20231105T060000
END:STANDARD
BEGIN:DAYLIGHT
TZOFFSETFROM:-0500
TZOFFSETTO:-0400
TZNAME:EDT
DTSTART:20240310T070000
END:DAYLIGHT
BEGIN:STANDARD
TZOFFSETFROM:-0400
TZOFFSETTO:-0500
TZNAME:EST
DTSTART:20241103T060000
END:STANDARD
BEGIN:DAYLIGHT
TZOFFSETFROM:-0500
TZOFFSETTO:-0400
TZNAME:EDT
DTSTART:20250309T070000
END:DAYLIGHT
BEGIN:STANDARD
TZOFFSETFROM:-0400
TZOFFSETTO:-0500
TZNAME:EST
DTSTART:20251102T060000
END:STANDARD
END:VTIMEZONE
BEGIN:VEVENT
DTSTART;TZID=America/New_York:20240907T100000
DTEND;TZID=America/New_York:20240907T160000
DTSTAMP:20260421T084751
CREATED:20240329T143822Z
LAST-MODIFIED:20240329T144802Z
UID:10000005-1725703200-1725724800@adkncga.org
SUMMARY:Adirondack Nature Festival for People with Disabilities
DESCRIPTION:The first of what will become an annual event\, the Adirondack Nature Festival for People with Disabilities is an accessible event that connects all individuals with nature through a variety of activities\, arts\, and music. \nThis day is dedicated to bringing together people with disabilities to celebrate who we are\, to experience the uplifting power of community. You will find opportunities to connect with old friends as well as meet new people while sharing a nature experience\, participating in a craft workshop or hanging out listening to live music. \nIt is organized by a committee of volunteers with support from Adirondack Riverwalking\, Paul Smith’s Visitior Interpretive Center\, LI Greenmarket\, Inc.\, Tri-Lakes Center for Independent Living\, Adirondack Accessible Tourism\, Adirondack Website Design\, and many other people and organizations throughout the Adirondack region. \nThe festival will not charge for admission to visitors.
URL:https://adkncga.org/adirondack-north-country-gender-alliance-event/adirondack-nature-festival-for-people-with-disabilities/
LOCATION:Paul Smith’s VIC\, 8023 NY-30\, Paul Smith's\, NY\, 12970\, United States
ATTACH;FMTTYPE=image/jpeg:https://adkncga.org/wp-content/uploads/2024/03/Woman-pushing-boy-in-wheelchair-Adirondack-Nature-Festival-for-People-with-Disabilities.jpg
END:VEVENT
BEGIN:VEVENT
DTSTART;TZID=America/New_York:20240916T080000
DTEND;TZID=America/New_York:20240923T170000
DTSTAMP:20260421T084751
CREATED:20240517T135013Z
LAST-MODIFIED:20240517T135013Z
UID:10000598-1726473600-1727110800@adkncga.org
SUMMARY:Bisexual Awareness Week
DESCRIPTION:The Bisexual Awareness Week\, also known as #BiWeek\, is an annual celebration held from September 16–23. It is an extension of Celebrate Bisexuality Day\, held annually on September 23. The celebration promotes cultural acceptance of the bisexual community\, as well as attempts to create a platform for advocating bisexual rights. \nAccording to a 2013 Pew Research Center survey\, bisexuals represent approximately 40% of the LGBTQ community. Bisexual Awareness Week is a platform to recognise bisexual and LGBTQ advocacy throughout history.
URL:https://adkncga.org/adirondack-north-country-gender-alliance-event/bisexual-awareness-week/2024-09-16/
CATEGORIES:LGBTQIA+ Holidays & Remembrances
ATTACH;FMTTYPE=image/jpeg:https://adkncga.org/wp-content/uploads/2024/05/Bisexual-Awareness-Week.jpg
END:VEVENT
BEGIN:VEVENT
DTSTART;TZID=America/New_York:20240923T080000
DTEND;TZID=America/New_York:20240923T170000
DTSTAMP:20260421T084751
CREATED:20240517T135506Z
LAST-MODIFIED:20240517T135506Z
UID:10000603-1727078400-1727110800@adkncga.org
SUMMARY:Celebrate Bisexuality Day
DESCRIPTION:Celebrate Bisexuality Day (also called Bisexual Pride Day\, Bi Visibility Day\, CBD\, Bisexual Pride and Bi Visibility Day\, and Bisexuality+ Day) is observed annually on September 23 to recognize and celebrate bisexual people\, the bisexual community\, and the history of bisexuality.
URL:https://adkncga.org/adirondack-north-country-gender-alliance-event/celebrate-bisexuality-day/2024-09-23/
CATEGORIES:LGBTQIA+ Holidays & Remembrances
ATTACH;FMTTYPE=image/jpeg:https://adkncga.org/wp-content/uploads/2024/05/Celebrate-Bisexuality-Day.jpg
END:VEVENT
BEGIN:VEVENT
DTSTART;TZID=America/New_York:20240924T173000
DTEND;TZID=America/New_York:20240924T193000
DTSTAMP:20260421T084751
CREATED:20240516T122734Z
LAST-MODIFIED:20250110T160650Z
UID:10000675-1727199000-1727206200@adkncga.org
SUMMARY:LGBTQAI+ Mixer - Saranac Lake - Bitters and Bones
DESCRIPTION:Join us for our monthly LGBTQ Mixer at Bitters and Bones in Saranac Lake! \nCome and join us on the last Tuesday of each month from 5:30pm – 7:30pm \nGood people. Good food. Good drinks. Non-ETOH drink options provided. Kitchen open until 9pm. \nAn Adirondack brewery and restaurant\, Bitters & Bones offers craft beer made onsite\, signature cocktails\, and fresh local cuisine – all made with love.\nDine indoors in our rustic-industrial tavern or on our rooftop deck during summer months. \nBitters and Bones\n65 Broadway Street\nSaranac Lake\, NY 12983 \nPh: (518) 354-8270
URL:https://adkncga.org/adirondack-north-country-gender-alliance-event/lgbtq-mixer-saranac-lake-bitters-and-bones/2024-09-24/
LOCATION:Bitters and Bones\, 65 Broadway Street\, Saranac Lake\, 12983\, United States
CATEGORIES:ANCGA Events
ATTACH;FMTTYPE=image/jpeg:https://adkncga.org/wp-content/uploads/2024/05/Logo-Bitters-and-Bones-1.jpg
END:VEVENT
END:VCALENDAR