BEGIN:VCALENDAR
VERSION:2.0
PRODID:-//Adirondack North Country Gender Alliance - ECPv6.15.20//NONSGML v1.0//EN
CALSCALE:GREGORIAN
METHOD:PUBLISH
X-ORIGINAL-URL:https://adkncga.org
X-WR-CALDESC:Events for Adirondack North Country Gender Alliance
REFRESH-INTERVAL;VALUE=DURATION:PT1H
X-Robots-Tag:noindex
X-PUBLISHED-TTL:PT1H
BEGIN:VTIMEZONE
TZID:America/New_York
BEGIN:DAYLIGHT
TZOFFSETFROM:-0500
TZOFFSETTO:-0400
TZNAME:EDT
DTSTART:20230312T070000
END:DAYLIGHT
BEGIN:STANDARD
TZOFFSETFROM:-0400
TZOFFSETTO:-0500
TZNAME:EST
DTSTART:20231105T060000
END:STANDARD
BEGIN:DAYLIGHT
TZOFFSETFROM:-0500
TZOFFSETTO:-0400
TZNAME:EDT
DTSTART:20240310T070000
END:DAYLIGHT
BEGIN:STANDARD
TZOFFSETFROM:-0400
TZOFFSETTO:-0500
TZNAME:EST
DTSTART:20241103T060000
END:STANDARD
BEGIN:DAYLIGHT
TZOFFSETFROM:-0500
TZOFFSETTO:-0400
TZNAME:EDT
DTSTART:20250309T070000
END:DAYLIGHT
BEGIN:STANDARD
TZOFFSETFROM:-0400
TZOFFSETTO:-0500
TZNAME:EST
DTSTART:20251102T060000
END:STANDARD
END:VTIMEZONE
BEGIN:VEVENT
DTSTART;TZID=America/New_York:20241201T080000
DTEND;TZID=America/New_York:20241201T170000
DTSTAMP:20260421T131415
CREATED:20240517T151215Z
LAST-MODIFIED:20240517T151215Z
UID:10000657-1733040000-1733072400@adkncga.org
SUMMARY:World AIDS Day
DESCRIPTION:World AIDS Day is an opportunity for every community and each individual to honor the more than 32 million people who have died worldwide from AIDS-related illness. Observed on December 1\, it is a day for voices to unite by sharing experiences\, remembering those lost\, and standing together in the fight against HIV.
URL:https://adkncga.org/adirondack-north-country-gender-alliance-event/world-aids-day/2024-12-01/
CATEGORIES:LGBTQIA+ Holidays & Remembrances
ATTACH;FMTTYPE=image/jpeg:https://adkncga.org/wp-content/uploads/2024/05/World-AIDS-Day-December-1.jpg
END:VEVENT
BEGIN:VEVENT
DTSTART;TZID=America/New_York:20241208T080000
DTEND;TZID=America/New_York:20241208T170000
DTSTAMP:20260421T131415
CREATED:20240517T151642Z
LAST-MODIFIED:20240517T151642Z
UID:10000662-1733644800-1733677200@adkncga.org
SUMMARY:Pansexual Pride Day
DESCRIPTION:Every year on December 8th we celebrate Pansexual Pride Day. This is one of two main days for the Pansexual community\, the other being Pansexual and Panromantic Visibility Day on May 24. \nPansexual Pride Day is an annual event to celebrate Pansexuality and Panromanticism. It’s also a time to raise awareness of Pansexual and Panromantic people and highlight their life experiences. It’s a time when the community can share stories and experiences\, and speak out around the issues faced. \nWhat Is Pansexuality? \nPansexuality is one of the identities on the LGBTQ+ spectrum of sexual orientation\, which are all natural and wonderful aspects of human diversity. It is\, though\, one of the less understood identities. \nFor Pansexual people gender plays no\, or very little\, part in whether they are sexually attracted to someone or not. So they could be attracted to anyone of any gender\, binary or otherwise. Many Pansexual people may say they are just attracted to humans. \nAttraction could be based on someone’s intellect\, energy\, physical appearance\, shared interests or values. So in fact exactly the same things that allow anyone else to form connections. \nPansexual people can identify as queer\, or as any gender\, and are also much less likely to be concerned if the gender identity of their partner changes.
URL:https://adkncga.org/adirondack-north-country-gender-alliance-event/pansexual-pride-day/2024-12-08/
CATEGORIES:LGBTQIA+ Holidays & Remembrances
ATTACH;FMTTYPE=image/jpeg:https://adkncga.org/wp-content/uploads/2024/05/Pansexual-Pride-Day.jpg
END:VEVENT
BEGIN:VEVENT
DTSTART;TZID=America/New_York:20241210T080000
DTEND;TZID=America/New_York:20241210T170000
DTSTAMP:20260421T131415
CREATED:20240517T151919Z
LAST-MODIFIED:20240517T151919Z
UID:10000667-1733817600-1733850000@adkncga.org
SUMMARY:Human Rights Day
DESCRIPTION:Human Rights Day is observed by the international community every year on 10 December. It commemorates the day in 1948 the United Nations General Assembly adopted the Universal Declaration of Human Rights. \nThe formal inception of Human Rights Day dates from 1950\, after the Assembly passed resolution 423 (V) inviting all States and interested organizations to adopt December 10 of each year as Human Rights Day. \nWhen the General Assembly adopted the Declaration\, it was proclaimed as a “common standard of achievement for all peoples and all nations”\, towards which individuals and societies should “strive by progressive measures\, national and international\, to secure their universal and effective recognition and observance”. \nThe Universal Declaration of Human Rights sets out a broad range of fundamental rights and freedoms to which all of us are entitled. It guarantees the rights of every individual everywhere\, without distinction based on nationality\, place of residence\, gender\, national or ethnic origin\, religion\, language\, or any other status. \nAlthough the Declaration is not a binding document\, it inspired more than 60 human rights instruments which together constitute an international standard of human rights. Today the general consent of all United Nations Member States on the basic Human Rights laid down in the Declaration makes it even stronger and emphasizes the relevance of Human Rights in our daily lives. \nThe High Commissioner for Human Rights\, as the main United Nations rights official\, and the Office of the High Commissioner play a major role in coordinating efforts for the yearly observation of Human Rights Day.
URL:https://adkncga.org/adirondack-north-country-gender-alliance-event/human-rights-day/2024-12-10/
CATEGORIES:LGBTQIA+ Holidays & Remembrances
ATTACH;FMTTYPE=image/jpeg:https://adkncga.org/wp-content/uploads/2024/05/Human-Rights-Day.jpg
END:VEVENT
BEGIN:VEVENT
DTSTART;TZID=America/New_York:20241231T173000
DTEND;TZID=America/New_York:20241231T193000
DTSTAMP:20260421T131415
CREATED:20240516T122734Z
LAST-MODIFIED:20250110T160650Z
UID:10000678-1735666200-1735673400@adkncga.org
SUMMARY:LGBTQAI+ Mixer - Saranac Lake - Bitters and Bones
DESCRIPTION:Join us for our monthly LGBTQ Mixer at Bitters and Bones in Saranac Lake! \nCome and join us on the last Tuesday of each month from 5:30pm – 7:30pm \nGood people. Good food. Good drinks. Non-ETOH drink options provided. Kitchen open until 9pm. \nAn Adirondack brewery and restaurant\, Bitters & Bones offers craft beer made onsite\, signature cocktails\, and fresh local cuisine – all made with love.\nDine indoors in our rustic-industrial tavern or on our rooftop deck during summer months. \nBitters and Bones\n65 Broadway Street\nSaranac Lake\, NY 12983 \nPh: (518) 354-8270
URL:https://adkncga.org/adirondack-north-country-gender-alliance-event/lgbtq-mixer-saranac-lake-bitters-and-bones/2024-12-31/
LOCATION:Bitters and Bones\, 65 Broadway Street\, Saranac Lake\, 12983\, United States
CATEGORIES:ANCGA Events
ATTACH;FMTTYPE=image/jpeg:https://adkncga.org/wp-content/uploads/2024/05/Logo-Bitters-and-Bones-1.jpg
END:VEVENT
END:VCALENDAR