BEGIN:VCALENDAR
VERSION:2.0
PRODID:-//Adirondack North Country Gender Alliance - ECPv6.15.20//NONSGML v1.0//EN
CALSCALE:GREGORIAN
METHOD:PUBLISH
X-ORIGINAL-URL:https://adkncga.org
X-WR-CALDESC:Events for Adirondack North Country Gender Alliance
REFRESH-INTERVAL;VALUE=DURATION:PT1H
X-Robots-Tag:noindex
X-PUBLISHED-TTL:PT1H
BEGIN:VTIMEZONE
TZID:America/New_York
BEGIN:DAYLIGHT
TZOFFSETFROM:-0500
TZOFFSETTO:-0400
TZNAME:EDT
DTSTART:20240310T070000
END:DAYLIGHT
BEGIN:STANDARD
TZOFFSETFROM:-0400
TZOFFSETTO:-0500
TZNAME:EST
DTSTART:20241103T060000
END:STANDARD
BEGIN:DAYLIGHT
TZOFFSETFROM:-0500
TZOFFSETTO:-0400
TZNAME:EDT
DTSTART:20250309T070000
END:DAYLIGHT
BEGIN:STANDARD
TZOFFSETFROM:-0400
TZOFFSETTO:-0500
TZNAME:EST
DTSTART:20251102T060000
END:STANDARD
BEGIN:DAYLIGHT
TZOFFSETFROM:-0500
TZOFFSETTO:-0400
TZNAME:EDT
DTSTART:20260308T070000
END:DAYLIGHT
BEGIN:STANDARD
TZOFFSETFROM:-0400
TZOFFSETTO:-0500
TZNAME:EST
DTSTART:20261101T060000
END:STANDARD
END:VTIMEZONE
BEGIN:VEVENT
DTSTART;TZID=America/New_York:20250120T080000
DTEND;TZID=America/New_York:20250124T170000
DTSTAMP:20260425T062321
CREATED:20240209T144719Z
LAST-MODIFIED:20240209T150814Z
UID:10000001-1737360000-1737738000@adkncga.org
SUMMARY:No Name-Calling Week - 2025
DESCRIPTION:No Name-Calling Week (NNCW)\, sponsored by GLSEN (Gay\, Lesbian and Straight Education Network)\, is a week organized by K-12 educators and students to call attention to and end name-calling and bullying in schools. \nNo Name-Calling Week takes place January 20-24\, 2025. Below are educational resources to help you create a safe and inclusive learning environment for all students\, teach students to understand and counter bias and bullying and inspire young people to do something about the name-calling and bias they see in their classrooms\, communities\, schools and world.
URL:https://adkncga.org/adirondack-north-country-gender-alliance-event/no-name-calling-week-2025/
CATEGORIES:LGBTQIA+ Holidays & Remembrances
ATTACH;FMTTYPE=image/png:https://adkncga.org/wp-content/uploads/2024/02/No-Name-Calling-Week.png
END:VEVENT
BEGIN:VEVENT
DTSTART;TZID=America/New_York:20250121T173000
DTEND;TZID=America/New_York:20250121T193000
DTSTAMP:20260425T062321
CREATED:20250110T160304Z
LAST-MODIFIED:20250110T160304Z
UID:10000797-1737480600-1737487800@adkncga.org
SUMMARY:LGBTQIA+ Mixer - Malone - Moe’s Pub & Grill
DESCRIPTION:Join us for our monthly LGBTQAI+ Mixer at Moe’s Pub & Grill in Malone! \nCome and join us on the third Thursday of each month from 5:30 pm – 7:30 PM \nThe main restaurant has numerous dining options. On the West side of the building there is an outdoor seating area\, making it ideal for watching beautiful North Country sunsets. The outdoor section boasts a heated\, covered area to keep patrons dry and warm\, as well as an open area where you can enjoy a cold refreshment while basking in the sun. Inside\, there are two separate dining rooms to give the restaurant a more personal feel. Situated between the two is a one of a kind sports oriented bar area. The fully stocked bar also features eight varieties of draft beer served through our signature Polar Ice Tap. You can enjoy Mo’s Full Menu from the comfort of your barstool or from one of the beautifully handcrafted high top tables. Keeping in line with Mo’s focus on athletics\, there are seven HD flat screen televisions in all. So grab your friends and come root for your favorite team. Whether it’s football\, basketball\, baseball\, or hockey\, you’re sure to catch all the action at Mo’s. \nMoe’s Pub & Grill\n3357 State Route 11\nMalone\, NY 12953 \nPh: (518) 483-3667
URL:https://adkncga.org/adirondack-north-country-gender-alliance-event/lgbtqia-mixer-malone-moes-pub-grill-2/2025-01-21/
LOCATION:Moe’s Pub and Grill\, 3357 State Route 11\, Malone\, NY\, 12953\, United States
CATEGORIES:ANCGA Events
ATTACH;FMTTYPE=image/jpeg:https://adkncga.org/wp-content/uploads/2024/05/Logo-Moes-Pub-and-Grill.jpg
END:VEVENT
BEGIN:VEVENT
DTSTART;TZID=America/New_York:20250125T160000
DTEND;TZID=America/New_York:20250125T173000
DTSTAMP:20260425T062321
CREATED:20250120T165227Z
LAST-MODIFIED:20250120T165228Z
UID:10000195-1737820800-1737826200@adkncga.org
SUMMARY:Tri-Lakes LGBTQAI+ Youth Group - Saranac Lake Youth Center - Second and Fourth Saturday
DESCRIPTION:The Saranac Lake Youth Center (please enter from the Church Street entrance) in co-sponsorship with the Adirondack North Country Gender Alliance will host the LGBTQI+ youth group held at the Saranac Lake Youth Center on the second and fourth Saturdays of each month from 4:00 – 5:30 pm. \nOur mission is to create a safe space and environment for LGBTQIA+ youth\, family members and allies to meet and enjoy being themselves. We support infinite diversity in infinate combinations. \nOpen to all Adirondack North Country LGBTQI+ middle and high school age Transgender\, Gender Non-Binary\, Lesbian\, Gay\, and Bi/Pansexual youth. Family members\, friends and allies are always welcome! \nWe stand Tri-Lakes proud\, and North Country Strong! \nSummer and Fall dates will be published in June\, 2025. \nYou may also contact:\nJennifer Keller\, Director\, Saranac Lake Youth Center at (518) 891-5846 or by email Saranac Lake Youth Center – saranaclakeyouth@gmail.com\nor\nANCGA at 518-637-7253 – Email: ancga@outlook.com\n​
URL:https://adkncga.org/adirondack-north-country-gender-alliance-event/tri-lakes-lgbtqai-youth-group-saranac-lake-youth-center-second-and-fourth-saturday-2/
LOCATION:Saranac Lake Youth Center\, 29 Woodruff Street\, Saranac Lake\, 12983\, United States
CATEGORIES:ANCGA Events
ATTACH;FMTTYPE=image/jpeg:https://adkncga.org/wp-content/uploads/2024/05/Logo-Saranac-Lake-Youth-Center-1.jpg
END:VEVENT
BEGIN:VEVENT
DTSTART;TZID=America/New_York:20250127T080000
DTEND;TZID=America/New_York:20250127T170000
DTSTAMP:20260425T062321
CREATED:20240209T145312Z
LAST-MODIFIED:20240209T150849Z
UID:10000002-1737964800-1737997200@adkncga.org
SUMMARY:International Holocaust Remembrance Day - 2025
DESCRIPTION:The United Nations General Assembly designated January 27 the anniversary of the liberation of Auschwitz-Birkenau—as International Holocaust Remembrance Day\, a time to remember the six million Jewish victims of the Holocaust and the millions of other victims\, including those of the LGBTQIA+ community\, of evil Nazi persecution. \nAs we are witnessing an alarming rise of antisemitism around the globe\, it is more important than ever for us to recognize the critical lessons of Holocaust history as we commemorate the victims and honor the survivors. \nHow to Mark the Day \nAt the Museum and other commemoration sites\, we remember Holocaust victims by reading their names\, by lighting candles\, and by learning about the Holocaust. All of us can mark International Holocaust Remembrance Day by sharing the truth of the Holocaust and by confronting antisemitism and hate in our daily lives.
URL:https://adkncga.org/adirondack-north-country-gender-alliance-event/international-holocaust-remembrance-day-2025/
CATEGORIES:LGBTQIA+ Holidays & Remembrances
ATTACH;FMTTYPE=image/jpeg:https://adkncga.org/wp-content/uploads/2024/02/International-Holocaust-Remembrance-Day-scaled.jpg
END:VEVENT
BEGIN:VEVENT
DTSTART;TZID=America/New_York:20250128T173000
DTEND;TZID=America/New_York:20250128T193000
DTSTAMP:20260425T062321
CREATED:20240516T122734Z
LAST-MODIFIED:20250110T160650Z
UID:10000679-1738085400-1738092600@adkncga.org
SUMMARY:LGBTQAI+ Mixer - Saranac Lake - Bitters and Bones
DESCRIPTION:Join us for our monthly LGBTQ Mixer at Bitters and Bones in Saranac Lake! \nCome and join us on the last Tuesday of each month from 5:30pm – 7:30pm \nGood people. Good food. Good drinks. Non-ETOH drink options provided. Kitchen open until 9pm. \nAn Adirondack brewery and restaurant\, Bitters & Bones offers craft beer made onsite\, signature cocktails\, and fresh local cuisine – all made with love.\nDine indoors in our rustic-industrial tavern or on our rooftop deck during summer months. \nBitters and Bones\n65 Broadway Street\nSaranac Lake\, NY 12983 \nPh: (518) 354-8270
URL:https://adkncga.org/adirondack-north-country-gender-alliance-event/lgbtq-mixer-saranac-lake-bitters-and-bones/2025-01-28/
LOCATION:Bitters and Bones\, 65 Broadway Street\, Saranac Lake\, 12983\, United States
CATEGORIES:ANCGA Events
ATTACH;FMTTYPE=image/jpeg:https://adkncga.org/wp-content/uploads/2024/05/Logo-Bitters-and-Bones-1.jpg
END:VEVENT
END:VCALENDAR