BEGIN:VCALENDAR
VERSION:2.0
PRODID:-//Adirondack North Country Gender Alliance - ECPv6.15.20//NONSGML v1.0//EN
CALSCALE:GREGORIAN
METHOD:PUBLISH
X-WR-CALNAME:Adirondack North Country Gender Alliance
X-ORIGINAL-URL:https://adkncga.org
X-WR-CALDESC:Events for Adirondack North Country Gender Alliance
REFRESH-INTERVAL;VALUE=DURATION:PT1H
X-Robots-Tag:noindex
X-PUBLISHED-TTL:PT1H
BEGIN:VTIMEZONE
TZID:America/New_York
BEGIN:DAYLIGHT
TZOFFSETFROM:-0500
TZOFFSETTO:-0400
TZNAME:EDT
DTSTART:20240310T070000
END:DAYLIGHT
BEGIN:STANDARD
TZOFFSETFROM:-0400
TZOFFSETTO:-0500
TZNAME:EST
DTSTART:20241103T060000
END:STANDARD
BEGIN:DAYLIGHT
TZOFFSETFROM:-0500
TZOFFSETTO:-0400
TZNAME:EDT
DTSTART:20250309T070000
END:DAYLIGHT
BEGIN:STANDARD
TZOFFSETFROM:-0400
TZOFFSETTO:-0500
TZNAME:EST
DTSTART:20251102T060000
END:STANDARD
BEGIN:DAYLIGHT
TZOFFSETFROM:-0500
TZOFFSETTO:-0400
TZNAME:EDT
DTSTART:20260308T070000
END:DAYLIGHT
BEGIN:STANDARD
TZOFFSETFROM:-0400
TZOFFSETTO:-0500
TZNAME:EST
DTSTART:20261101T060000
END:STANDARD
END:VTIMEZONE
BEGIN:VEVENT
DTSTART;TZID=America/New_York:20250208T160000
DTEND;TZID=America/New_York:20250208T173000
DTSTAMP:20260425T093819
CREATED:20240516T120511Z
LAST-MODIFIED:20250120T163714Z
UID:10000923-1739030400-1739035800@adkncga.org
SUMMARY:Tri-Lakes LGBTQAI+ Youth Group - Saranac Lake Youth Center - Second and Fourth Saturday
DESCRIPTION:The Saranac Lake Youth Center (please enter from the Church Street entrance) in co-sponsorship with the Adirondack North Country Gender Alliance will host the LGBTQI+ youth group held at the Saranac Lake Youth Center on the second and fourth Saturdays of each month from 4:00 – 5:30 pm. \nOur mission is to create a safe space and environment for LGBTQIA+ youth\, family members and allies to meet and enjoy being themselves. We support infinite diversity in infinate combinations. \nOpen to all Adirondack North Country LGBTQI+ middle and high school age Transgender\, Gender Non-Binary\, Lesbian\, Gay\, and Bi/Pansexual youth. Family members\, friends and allies are always welcome! \nWe stand Tri-Lakes proud\, and North Country Strong! \nSummer and Fall dates will be published in June\, 2025. \nYou may also contact:\nJennifer Keller\, Director\, Saranac Lake Youth Center at (518) 891-5846 or by email Saranac Lake Youth Center – saranaclakeyouth@gmail.com\nor\nANCGA at 518-637-7253 – Email: ancga@outlook.com\n​
URL:https://adkncga.org/adirondack-north-country-gender-alliance-event/tri-lakes-lgbtqai-youth-group-saranac-lake-youth-center-second-and-fourth-saturday/2025-02-08/
LOCATION:Saranac Lake Youth Center\, 29 Woodruff Street\, Saranac Lake\, 12983\, United States
CATEGORIES:ANCGA Events
ATTACH;FMTTYPE=image/jpeg:https://adkncga.org/wp-content/uploads/2024/05/Logo-Saranac-Lake-Youth-Center-1.jpg
END:VEVENT
BEGIN:VEVENT
DTSTART;TZID=America/New_York:20250216T080000
DTEND;TZID=America/New_York:20250222T170000
DTSTAMP:20260425T093819
CREATED:20240209T150124Z
LAST-MODIFIED:20240209T150700Z
UID:10000003-1739692800-1740243600@adkncga.org
SUMMARY:Aromantic Spectrum Awareness Week - 2025
DESCRIPTION:Aromanticism is a romantic orientation\, which describes people whose experience of romance is disconnected from normative societal expectations\, often due to experiencing little to no romantic attraction\, or sometimes feeling repulsed by romance or being uninterested in romantic relationships. \nAromantic Spectrum Awareness Week (ASAW) is an annual\, international event meant to spread awareness and acceptance of aromantic spectrum identities and the issues we face\, as well as making more people aware of our existence while celebrating it.
URL:https://adkncga.org/adirondack-north-country-gender-alliance-event/aromantic-spectrum-awareness-week-2025/
CATEGORIES:LGBTQIA+ Holidays & Remembrances
ATTACH;FMTTYPE=image/jpeg:https://adkncga.org/wp-content/uploads/2024/02/Aromantic-Flag.jpg
END:VEVENT
BEGIN:VEVENT
DTSTART;TZID=America/New_York:20250218T173000
DTEND;TZID=America/New_York:20250218T193000
DTSTAMP:20260425T093819
CREATED:20250110T160304Z
LAST-MODIFIED:20250110T160304Z
UID:10000856-1739899800-1739907000@adkncga.org
SUMMARY:LGBTQIA+ Mixer - Malone - Moe’s Pub & Grill
DESCRIPTION:Join us for our monthly LGBTQAI+ Mixer at Moe’s Pub & Grill in Malone! \nCome and join us on the third Thursday of each month from 5:30 pm – 7:30 PM \nThe main restaurant has numerous dining options. On the West side of the building there is an outdoor seating area\, making it ideal for watching beautiful North Country sunsets. The outdoor section boasts a heated\, covered area to keep patrons dry and warm\, as well as an open area where you can enjoy a cold refreshment while basking in the sun. Inside\, there are two separate dining rooms to give the restaurant a more personal feel. Situated between the two is a one of a kind sports oriented bar area. The fully stocked bar also features eight varieties of draft beer served through our signature Polar Ice Tap. You can enjoy Mo’s Full Menu from the comfort of your barstool or from one of the beautifully handcrafted high top tables. Keeping in line with Mo’s focus on athletics\, there are seven HD flat screen televisions in all. So grab your friends and come root for your favorite team. Whether it’s football\, basketball\, baseball\, or hockey\, you’re sure to catch all the action at Mo’s. \nMoe’s Pub & Grill\n3357 State Route 11\nMalone\, NY 12953 \nPh: (518) 483-3667
URL:https://adkncga.org/adirondack-north-country-gender-alliance-event/lgbtqia-mixer-malone-moes-pub-grill-2/2025-02-18/
LOCATION:Moe’s Pub and Grill\, 3357 State Route 11\, Malone\, NY\, 12953\, United States
CATEGORIES:ANCGA Events
ATTACH;FMTTYPE=image/jpeg:https://adkncga.org/wp-content/uploads/2024/05/Logo-Moes-Pub-and-Grill.jpg
END:VEVENT
BEGIN:VEVENT
DTSTART;TZID=America/New_York:20250222T160000
DTEND;TZID=America/New_York:20250222T173000
DTSTAMP:20260425T093819
CREATED:20240516T120511Z
LAST-MODIFIED:20250120T163714Z
UID:10000203-1740240000-1740245400@adkncga.org
SUMMARY:Tri-Lakes LGBTQAI+ Youth Group - Saranac Lake Youth Center - Second and Fourth Saturday
DESCRIPTION:The Saranac Lake Youth Center (please enter from the Church Street entrance) in co-sponsorship with the Adirondack North Country Gender Alliance will host the LGBTQI+ youth group held at the Saranac Lake Youth Center on the second and fourth Saturdays of each month from 4:00 – 5:30 pm. \nOur mission is to create a safe space and environment for LGBTQIA+ youth\, family members and allies to meet and enjoy being themselves. We support infinite diversity in infinate combinations. \nOpen to all Adirondack North Country LGBTQI+ middle and high school age Transgender\, Gender Non-Binary\, Lesbian\, Gay\, and Bi/Pansexual youth. Family members\, friends and allies are always welcome! \nWe stand Tri-Lakes proud\, and North Country Strong! \nSummer and Fall dates will be published in June\, 2025. \nYou may also contact:\nJennifer Keller\, Director\, Saranac Lake Youth Center at (518) 891-5846 or by email Saranac Lake Youth Center – saranaclakeyouth@gmail.com\nor\nANCGA at 518-637-7253 – Email: ancga@outlook.com\n​
URL:https://adkncga.org/adirondack-north-country-gender-alliance-event/tri-lakes-lgbtqai-youth-group-saranac-lake-youth-center-second-and-fourth-saturday/2025-02-22/
LOCATION:Saranac Lake Youth Center\, 29 Woodruff Street\, Saranac Lake\, 12983\, United States
CATEGORIES:ANCGA Events
ATTACH;FMTTYPE=image/jpeg:https://adkncga.org/wp-content/uploads/2024/05/Logo-Saranac-Lake-Youth-Center-1.jpg
END:VEVENT
BEGIN:VEVENT
DTSTART;TZID=America/New_York:20250225T173000
DTEND;TZID=America/New_York:20250225T193000
DTSTAMP:20260425T093819
CREATED:20240516T122734Z
LAST-MODIFIED:20250110T160650Z
UID:10000680-1740504600-1740511800@adkncga.org
SUMMARY:LGBTQAI+ Mixer - Saranac Lake - Bitters and Bones
DESCRIPTION:Join us for our monthly LGBTQ Mixer at Bitters and Bones in Saranac Lake! \nCome and join us on the last Tuesday of each month from 5:30pm – 7:30pm \nGood people. Good food. Good drinks. Non-ETOH drink options provided. Kitchen open until 9pm. \nAn Adirondack brewery and restaurant\, Bitters & Bones offers craft beer made onsite\, signature cocktails\, and fresh local cuisine – all made with love.\nDine indoors in our rustic-industrial tavern or on our rooftop deck during summer months. \nBitters and Bones\n65 Broadway Street\nSaranac Lake\, NY 12983 \nPh: (518) 354-8270
URL:https://adkncga.org/adirondack-north-country-gender-alliance-event/lgbtq-mixer-saranac-lake-bitters-and-bones/2025-02-25/
LOCATION:Bitters and Bones\, 65 Broadway Street\, Saranac Lake\, 12983\, United States
CATEGORIES:ANCGA Events
ATTACH;FMTTYPE=image/jpeg:https://adkncga.org/wp-content/uploads/2024/05/Logo-Bitters-and-Bones-1.jpg
END:VEVENT
BEGIN:VEVENT
DTSTART;VALUE=DATE:20250228
DTEND;VALUE=DATE:20250301
DTSTAMP:20260425T093819
CREATED:20250110T160026Z
LAST-MODIFIED:20250110T160026Z
UID:10000854-1740700800-1740787199@adkncga.org
SUMMARY:National Day of Reading
DESCRIPTION:Our Partnership with HRC/Welcoming Schools continues with “National Day of Reading” on February 28\, 2025.  More information on that is coming soon! \nIn 2015\, an anti-LGBTQ+ hate group forced a school in Wisconsin to cancel plans to read “I am Jazz” in support of a transgender student. In response\, more than 600 residents in a town of less than 8\,000 showed up at a public reading organized by a parent to show the students that the community had their back. \nEvery year\, in honor of the Mount Horeb community’s allyship\, communities across the country join ADKNCGA and HRCF’s Welcoming Schools program for its annual National Day of Reading: A Celebration of Trans Stories.
URL:https://adkncga.org/adirondack-north-country-gender-alliance-event/national-day-of-reading/2025-02-28/1/
CATEGORIES:LGBTQIA+ Holidays & Remembrances
ATTACH;FMTTYPE=image/jpeg:https://adkncga.org/wp-content/uploads/2025/01/National-Day-of-Reading.jpeg
END:VEVENT
BEGIN:VEVENT
DTSTART;VALUE=DATE:20250228
DTEND;VALUE=DATE:20250301
DTSTAMP:20260425T093819
CREATED:20250110T160026Z
LAST-MODIFIED:20250110T160026Z
UID:10000855-1740729600-1740762000@adkncga.org
SUMMARY:National Day of Reading
DESCRIPTION:Our Partnership with HRC/Welcoming Schools continues with “National Day of Reading” on February 28\, 2025.  More information on that is coming soon! \nIn 2015\, an anti-LGBTQ+ hate group forced a school in Wisconsin to cancel plans to read “I am Jazz” in support of a transgender student. In response\, more than 600 residents in a town of less than 8\,000 showed up at a public reading organized by a parent to show the students that the community had their back. \nEvery year\, in honor of the Mount Horeb community’s allyship\, communities across the country join ADKNCGA and HRCF’s Welcoming Schools program for its annual National Day of Reading: A Celebration of Trans Stories.
URL:https://adkncga.org/adirondack-north-country-gender-alliance-event/national-day-of-reading/2025-02-28/2/
CATEGORIES:LGBTQIA+ Holidays & Remembrances
ATTACH;FMTTYPE=image/jpeg:https://adkncga.org/wp-content/uploads/2025/01/National-Day-of-Reading.jpeg
END:VEVENT
END:VCALENDAR