BEGIN:VCALENDAR
VERSION:2.0
PRODID:-//Adirondack North Country Gender Alliance - ECPv6.15.20//NONSGML v1.0//EN
CALSCALE:GREGORIAN
METHOD:PUBLISH
X-WR-CALNAME:Adirondack North Country Gender Alliance
X-ORIGINAL-URL:https://adkncga.org
X-WR-CALDESC:Events for Adirondack North Country Gender Alliance
REFRESH-INTERVAL;VALUE=DURATION:PT1H
X-Robots-Tag:noindex
X-PUBLISHED-TTL:PT1H
BEGIN:VTIMEZONE
TZID:America/New_York
BEGIN:DAYLIGHT
TZOFFSETFROM:-0500
TZOFFSETTO:-0400
TZNAME:EDT
DTSTART:20250309T070000
END:DAYLIGHT
BEGIN:STANDARD
TZOFFSETFROM:-0400
TZOFFSETTO:-0500
TZNAME:EST
DTSTART:20251102T060000
END:STANDARD
BEGIN:DAYLIGHT
TZOFFSETFROM:-0500
TZOFFSETTO:-0400
TZNAME:EDT
DTSTART:20260308T070000
END:DAYLIGHT
BEGIN:STANDARD
TZOFFSETFROM:-0400
TZOFFSETTO:-0500
TZNAME:EST
DTSTART:20261101T060000
END:STANDARD
BEGIN:DAYLIGHT
TZOFFSETFROM:-0500
TZOFFSETTO:-0400
TZNAME:EDT
DTSTART:20270314T070000
END:DAYLIGHT
BEGIN:STANDARD
TZOFFSETFROM:-0400
TZOFFSETTO:-0500
TZNAME:EST
DTSTART:20271107T060000
END:STANDARD
BEGIN:DAYLIGHT
TZOFFSETFROM:-0500
TZOFFSETTO:-0400
TZNAME:EDT
DTSTART:20280312T070000
END:DAYLIGHT
BEGIN:STANDARD
TZOFFSETFROM:-0400
TZOFFSETTO:-0500
TZNAME:EST
DTSTART:20281105T060000
END:STANDARD
BEGIN:DAYLIGHT
TZOFFSETFROM:-0500
TZOFFSETTO:-0400
TZNAME:EDT
DTSTART:20290311T070000
END:DAYLIGHT
BEGIN:STANDARD
TZOFFSETFROM:-0400
TZOFFSETTO:-0500
TZNAME:EST
DTSTART:20291104T060000
END:STANDARD
END:VTIMEZONE
BEGIN:VEVENT
DTSTART;TZID=America/New_York:20260522T080000
DTEND;TZID=America/New_York:20260522T170000
DTSTAMP:20260420T074542
CREATED:20240517T124205Z
LAST-MODIFIED:20240517T124205Z
UID:10000556-1779436800-1779469200@adkncga.org
SUMMARY:Harvey Milk Day
DESCRIPTION:Harvey Milk Day is a day to educate your school about an extraordinary leader whose courageous work to end discrimination against the lesbian\, gay\, bisexual\, and transgender community in the 1970s set the stage for many of the civil rights advances we see today. \nWho was Harvey Milk? \nHarvey Milk was an activist\, organizer\, and the first openly gay man elected to public office in the country as a member of the San Francisco Board of Supervisors in the late 1970s. Harvey Milk came out and started organizing against discrimination of gay and lesbian business owners in the Castro District of San Francisco\, and against the Briggs Initiative (this was an initiative on the California state ballot in 1978 that would have banned gays and lesbians from working in California schools). Milk was responsible for passing gay rights ordinances for the city of San Francisco and served eleven months in office before he was assassinated on November 27\, 1978\, along with San Francisco Mayor George Moscone.  \nWe celebrate Harvey Milk Day on his birthday\, May 22.
URL:https://adkncga.org/adirondack-north-country-gender-alliance-event/harvey-milk-day/2026-05-22/
CATEGORIES:LGBTQIA+ Holidays & Remembrances
ATTACH;FMTTYPE=image/jpeg:https://adkncga.org/wp-content/uploads/2024/05/Logo-Harvey-Milk-Day.jpg
END:VEVENT
BEGIN:VEVENT
DTSTART;TZID=America/New_York:20270522T080000
DTEND;TZID=America/New_York:20270522T170000
DTSTAMP:20260420T074542
CREATED:20240517T124205Z
LAST-MODIFIED:20240517T124205Z
UID:10000557-1810972800-1811005200@adkncga.org
SUMMARY:Harvey Milk Day
DESCRIPTION:Harvey Milk Day is a day to educate your school about an extraordinary leader whose courageous work to end discrimination against the lesbian\, gay\, bisexual\, and transgender community in the 1970s set the stage for many of the civil rights advances we see today. \nWho was Harvey Milk? \nHarvey Milk was an activist\, organizer\, and the first openly gay man elected to public office in the country as a member of the San Francisco Board of Supervisors in the late 1970s. Harvey Milk came out and started organizing against discrimination of gay and lesbian business owners in the Castro District of San Francisco\, and against the Briggs Initiative (this was an initiative on the California state ballot in 1978 that would have banned gays and lesbians from working in California schools). Milk was responsible for passing gay rights ordinances for the city of San Francisco and served eleven months in office before he was assassinated on November 27\, 1978\, along with San Francisco Mayor George Moscone.  \nWe celebrate Harvey Milk Day on his birthday\, May 22.
URL:https://adkncga.org/adirondack-north-country-gender-alliance-event/harvey-milk-day/2027-05-22/
CATEGORIES:LGBTQIA+ Holidays & Remembrances
ATTACH;FMTTYPE=image/jpeg:https://adkncga.org/wp-content/uploads/2024/05/Logo-Harvey-Milk-Day.jpg
END:VEVENT
BEGIN:VEVENT
DTSTART;TZID=America/New_York:20280522T080000
DTEND;TZID=America/New_York:20280522T170000
DTSTAMP:20260420T074542
CREATED:20240517T124205Z
LAST-MODIFIED:20240517T124205Z
UID:10000558-1842595200-1842627600@adkncga.org
SUMMARY:Harvey Milk Day
DESCRIPTION:Harvey Milk Day is a day to educate your school about an extraordinary leader whose courageous work to end discrimination against the lesbian\, gay\, bisexual\, and transgender community in the 1970s set the stage for many of the civil rights advances we see today. \nWho was Harvey Milk? \nHarvey Milk was an activist\, organizer\, and the first openly gay man elected to public office in the country as a member of the San Francisco Board of Supervisors in the late 1970s. Harvey Milk came out and started organizing against discrimination of gay and lesbian business owners in the Castro District of San Francisco\, and against the Briggs Initiative (this was an initiative on the California state ballot in 1978 that would have banned gays and lesbians from working in California schools). Milk was responsible for passing gay rights ordinances for the city of San Francisco and served eleven months in office before he was assassinated on November 27\, 1978\, along with San Francisco Mayor George Moscone.  \nWe celebrate Harvey Milk Day on his birthday\, May 22.
URL:https://adkncga.org/adirondack-north-country-gender-alliance-event/harvey-milk-day/2028-05-22/
CATEGORIES:LGBTQIA+ Holidays & Remembrances
ATTACH;FMTTYPE=image/jpeg:https://adkncga.org/wp-content/uploads/2024/05/Logo-Harvey-Milk-Day.jpg
END:VEVENT
END:VCALENDAR