BEGIN:VCALENDAR
VERSION:2.0
PRODID:-//Adirondack North Country Gender Alliance - ECPv6.15.20//NONSGML v1.0//EN
CALSCALE:GREGORIAN
METHOD:PUBLISH
X-WR-CALNAME:Adirondack North Country Gender Alliance
X-ORIGINAL-URL:https://adkncga.org
X-WR-CALDESC:Events for Adirondack North Country Gender Alliance
REFRESH-INTERVAL;VALUE=DURATION:PT1H
X-Robots-Tag:noindex
X-PUBLISHED-TTL:PT1H
BEGIN:VTIMEZONE
TZID:America/New_York
BEGIN:DAYLIGHT
TZOFFSETFROM:-0500
TZOFFSETTO:-0400
TZNAME:EDT
DTSTART:20250309T070000
END:DAYLIGHT
BEGIN:STANDARD
TZOFFSETFROM:-0400
TZOFFSETTO:-0500
TZNAME:EST
DTSTART:20251102T060000
END:STANDARD
BEGIN:DAYLIGHT
TZOFFSETFROM:-0500
TZOFFSETTO:-0400
TZNAME:EDT
DTSTART:20260308T070000
END:DAYLIGHT
BEGIN:STANDARD
TZOFFSETFROM:-0400
TZOFFSETTO:-0500
TZNAME:EST
DTSTART:20261101T060000
END:STANDARD
BEGIN:DAYLIGHT
TZOFFSETFROM:-0500
TZOFFSETTO:-0400
TZNAME:EDT
DTSTART:20270314T070000
END:DAYLIGHT
BEGIN:STANDARD
TZOFFSETFROM:-0400
TZOFFSETTO:-0500
TZNAME:EST
DTSTART:20271107T060000
END:STANDARD
BEGIN:DAYLIGHT
TZOFFSETFROM:-0500
TZOFFSETTO:-0400
TZNAME:EDT
DTSTART:20280312T070000
END:DAYLIGHT
BEGIN:STANDARD
TZOFFSETFROM:-0400
TZOFFSETTO:-0500
TZNAME:EST
DTSTART:20281105T060000
END:STANDARD
BEGIN:DAYLIGHT
TZOFFSETFROM:-0500
TZOFFSETTO:-0400
TZNAME:EDT
DTSTART:20290311T070000
END:DAYLIGHT
BEGIN:STANDARD
TZOFFSETFROM:-0400
TZOFFSETTO:-0500
TZNAME:EST
DTSTART:20291104T060000
END:STANDARD
END:VTIMEZONE
BEGIN:VEVENT
DTSTART;TZID=America/New_York:20260923T080000
DTEND;TZID=America/New_York:20260923T170000
DTSTAMP:20260419T110931
CREATED:20240517T135506Z
LAST-MODIFIED:20240517T135506Z
UID:10000605-1790150400-1790182800@adkncga.org
SUMMARY:Celebrate Bisexuality Day
DESCRIPTION:Celebrate Bisexuality Day (also called Bisexual Pride Day\, Bi Visibility Day\, CBD\, Bisexual Pride and Bi Visibility Day\, and Bisexuality+ Day) is observed annually on September 23 to recognize and celebrate bisexual people\, the bisexual community\, and the history of bisexuality.
URL:https://adkncga.org/adirondack-north-country-gender-alliance-event/celebrate-bisexuality-day/2026-09-23/
CATEGORIES:LGBTQIA+ Holidays & Remembrances
ATTACH;FMTTYPE=image/jpeg:https://adkncga.org/wp-content/uploads/2024/05/Celebrate-Bisexuality-Day.jpg
END:VEVENT
BEGIN:VEVENT
DTSTART;TZID=America/New_York:20270923T080000
DTEND;TZID=America/New_York:20270923T170000
DTSTAMP:20260419T110931
CREATED:20240517T135506Z
LAST-MODIFIED:20240517T135506Z
UID:10000606-1821686400-1821718800@adkncga.org
SUMMARY:Celebrate Bisexuality Day
DESCRIPTION:Celebrate Bisexuality Day (also called Bisexual Pride Day\, Bi Visibility Day\, CBD\, Bisexual Pride and Bi Visibility Day\, and Bisexuality+ Day) is observed annually on September 23 to recognize and celebrate bisexual people\, the bisexual community\, and the history of bisexuality.
URL:https://adkncga.org/adirondack-north-country-gender-alliance-event/celebrate-bisexuality-day/2027-09-23/
CATEGORIES:LGBTQIA+ Holidays & Remembrances
ATTACH;FMTTYPE=image/jpeg:https://adkncga.org/wp-content/uploads/2024/05/Celebrate-Bisexuality-Day.jpg
END:VEVENT
BEGIN:VEVENT
DTSTART;TZID=America/New_York:20280923T080000
DTEND;TZID=America/New_York:20280923T170000
DTSTAMP:20260419T110931
CREATED:20240517T135506Z
LAST-MODIFIED:20240517T135506Z
UID:10000607-1853308800-1853341200@adkncga.org
SUMMARY:Celebrate Bisexuality Day
DESCRIPTION:Celebrate Bisexuality Day (also called Bisexual Pride Day\, Bi Visibility Day\, CBD\, Bisexual Pride and Bi Visibility Day\, and Bisexuality+ Day) is observed annually on September 23 to recognize and celebrate bisexual people\, the bisexual community\, and the history of bisexuality.
URL:https://adkncga.org/adirondack-north-country-gender-alliance-event/celebrate-bisexuality-day/2028-09-23/
CATEGORIES:LGBTQIA+ Holidays & Remembrances
ATTACH;FMTTYPE=image/jpeg:https://adkncga.org/wp-content/uploads/2024/05/Celebrate-Bisexuality-Day.jpg
END:VEVENT
END:VCALENDAR