BEGIN:VCALENDAR
VERSION:2.0
PRODID:-//Adirondack North Country Gender Alliance - ECPv6.15.20//NONSGML v1.0//EN
CALSCALE:GREGORIAN
METHOD:PUBLISH
X-WR-CALNAME:Adirondack North Country Gender Alliance
X-ORIGINAL-URL:https://adkncga.org
X-WR-CALDESC:Events for Adirondack North Country Gender Alliance
REFRESH-INTERVAL;VALUE=DURATION:PT1H
X-Robots-Tag:noindex
X-PUBLISHED-TTL:PT1H
BEGIN:VTIMEZONE
TZID:America/New_York
BEGIN:DAYLIGHT
TZOFFSETFROM:-0500
TZOFFSETTO:-0400
TZNAME:EDT
DTSTART:20250309T070000
END:DAYLIGHT
BEGIN:STANDARD
TZOFFSETFROM:-0400
TZOFFSETTO:-0500
TZNAME:EST
DTSTART:20251102T060000
END:STANDARD
BEGIN:DAYLIGHT
TZOFFSETFROM:-0500
TZOFFSETTO:-0400
TZNAME:EDT
DTSTART:20260308T070000
END:DAYLIGHT
BEGIN:STANDARD
TZOFFSETFROM:-0400
TZOFFSETTO:-0500
TZNAME:EST
DTSTART:20261101T060000
END:STANDARD
BEGIN:DAYLIGHT
TZOFFSETFROM:-0500
TZOFFSETTO:-0400
TZNAME:EDT
DTSTART:20270314T070000
END:DAYLIGHT
BEGIN:STANDARD
TZOFFSETFROM:-0400
TZOFFSETTO:-0500
TZNAME:EST
DTSTART:20271107T060000
END:STANDARD
BEGIN:DAYLIGHT
TZOFFSETFROM:-0500
TZOFFSETTO:-0400
TZNAME:EDT
DTSTART:20280312T070000
END:DAYLIGHT
BEGIN:STANDARD
TZOFFSETFROM:-0400
TZOFFSETTO:-0500
TZNAME:EST
DTSTART:20281105T060000
END:STANDARD
BEGIN:DAYLIGHT
TZOFFSETFROM:-0500
TZOFFSETTO:-0400
TZNAME:EDT
DTSTART:20290311T070000
END:DAYLIGHT
BEGIN:STANDARD
TZOFFSETFROM:-0400
TZOFFSETTO:-0500
TZNAME:EST
DTSTART:20291104T060000
END:STANDARD
END:VTIMEZONE
BEGIN:VEVENT
DTSTART;TZID=America/New_York:20261001T080000
DTEND;TZID=America/New_York:20261031T170000
DTSTAMP:20260421T070123
CREATED:20240517T135833Z
LAST-MODIFIED:20240517T135833Z
UID:10000610-1790841600-1793466000@adkncga.org
SUMMARY:LGBT History Month
DESCRIPTION:Happy LGBT History Month! \nLGBT History Month is an annual month-long observance of lesbian\, gay\, bisexual and transgender history\, and the history of the gay rights and related civil rights movements. It was founded in 1994 by Missouri high-school history teacher Rodney Wilson. LGBT History Month provides role models\, builds community\, and represents a civil rights statement about the contributions of the LGBTQ+ community. As of 2022\, LGBT History Month is a month-long celebration that is specific to Australia\, Canada\, Cuba\, Finland\, Germany\, Hungary\, Italy\, the United Kingdom and the United States.
URL:https://adkncga.org/adirondack-north-country-gender-alliance-event/lgbt-history-month/2026-10-01/
CATEGORIES:LGBTQIA+ Holidays & Remembrances
ATTACH;FMTTYPE=image/jpeg:https://adkncga.org/wp-content/uploads/2024/05/LGBT-History-Month.jpg
END:VEVENT
BEGIN:VEVENT
DTSTART;TZID=America/New_York:20271001T080000
DTEND;TZID=America/New_York:20271031T170000
DTSTAMP:20260421T070123
CREATED:20240517T135833Z
LAST-MODIFIED:20240517T135833Z
UID:10000611-1822377600-1825002000@adkncga.org
SUMMARY:LGBT History Month
DESCRIPTION:Happy LGBT History Month! \nLGBT History Month is an annual month-long observance of lesbian\, gay\, bisexual and transgender history\, and the history of the gay rights and related civil rights movements. It was founded in 1994 by Missouri high-school history teacher Rodney Wilson. LGBT History Month provides role models\, builds community\, and represents a civil rights statement about the contributions of the LGBTQ+ community. As of 2022\, LGBT History Month is a month-long celebration that is specific to Australia\, Canada\, Cuba\, Finland\, Germany\, Hungary\, Italy\, the United Kingdom and the United States.
URL:https://adkncga.org/adirondack-north-country-gender-alliance-event/lgbt-history-month/2027-10-01/
CATEGORIES:LGBTQIA+ Holidays & Remembrances
ATTACH;FMTTYPE=image/jpeg:https://adkncga.org/wp-content/uploads/2024/05/LGBT-History-Month.jpg
END:VEVENT
BEGIN:VEVENT
DTSTART;TZID=America/New_York:20281001T080000
DTEND;TZID=America/New_York:20281031T170000
DTSTAMP:20260421T070123
CREATED:20240517T135833Z
LAST-MODIFIED:20240517T135833Z
UID:10000612-1854000000-1856624400@adkncga.org
SUMMARY:LGBT History Month
DESCRIPTION:Happy LGBT History Month! \nLGBT History Month is an annual month-long observance of lesbian\, gay\, bisexual and transgender history\, and the history of the gay rights and related civil rights movements. It was founded in 1994 by Missouri high-school history teacher Rodney Wilson. LGBT History Month provides role models\, builds community\, and represents a civil rights statement about the contributions of the LGBTQ+ community. As of 2022\, LGBT History Month is a month-long celebration that is specific to Australia\, Canada\, Cuba\, Finland\, Germany\, Hungary\, Italy\, the United Kingdom and the United States.
URL:https://adkncga.org/adirondack-north-country-gender-alliance-event/lgbt-history-month/2028-10-01/
CATEGORIES:LGBTQIA+ Holidays & Remembrances
ATTACH;FMTTYPE=image/jpeg:https://adkncga.org/wp-content/uploads/2024/05/LGBT-History-Month.jpg
END:VEVENT
END:VCALENDAR