BEGIN:VCALENDAR
VERSION:2.0
PRODID:-//Adirondack North Country Gender Alliance - ECPv6.15.20//NONSGML v1.0//EN
CALSCALE:GREGORIAN
METHOD:PUBLISH
X-WR-CALNAME:Adirondack North Country Gender Alliance
X-ORIGINAL-URL:https://adkncga.org
X-WR-CALDESC:Events for Adirondack North Country Gender Alliance
REFRESH-INTERVAL;VALUE=DURATION:PT1H
X-Robots-Tag:noindex
X-PUBLISHED-TTL:PT1H
BEGIN:VTIMEZONE
TZID:America/New_York
BEGIN:DAYLIGHT
TZOFFSETFROM:-0500
TZOFFSETTO:-0400
TZNAME:EDT
DTSTART:20250309T070000
END:DAYLIGHT
BEGIN:STANDARD
TZOFFSETFROM:-0400
TZOFFSETTO:-0500
TZNAME:EST
DTSTART:20251102T060000
END:STANDARD
BEGIN:DAYLIGHT
TZOFFSETFROM:-0500
TZOFFSETTO:-0400
TZNAME:EDT
DTSTART:20260308T070000
END:DAYLIGHT
BEGIN:STANDARD
TZOFFSETFROM:-0400
TZOFFSETTO:-0500
TZNAME:EST
DTSTART:20261101T060000
END:STANDARD
BEGIN:DAYLIGHT
TZOFFSETFROM:-0500
TZOFFSETTO:-0400
TZNAME:EDT
DTSTART:20270314T070000
END:DAYLIGHT
BEGIN:STANDARD
TZOFFSETFROM:-0400
TZOFFSETTO:-0500
TZNAME:EST
DTSTART:20271107T060000
END:STANDARD
BEGIN:DAYLIGHT
TZOFFSETFROM:-0500
TZOFFSETTO:-0400
TZNAME:EDT
DTSTART:20280312T070000
END:DAYLIGHT
BEGIN:STANDARD
TZOFFSETFROM:-0400
TZOFFSETTO:-0500
TZNAME:EST
DTSTART:20281105T060000
END:STANDARD
BEGIN:DAYLIGHT
TZOFFSETFROM:-0500
TZOFFSETTO:-0400
TZNAME:EDT
DTSTART:20290311T070000
END:DAYLIGHT
BEGIN:STANDARD
TZOFFSETFROM:-0400
TZOFFSETTO:-0500
TZNAME:EST
DTSTART:20291104T060000
END:STANDARD
END:VTIMEZONE
BEGIN:VEVENT
DTSTART;TZID=America/New_York:20261101T080000
DTEND;TZID=America/New_York:20261130T180000
DTSTAMP:20260419T173716
CREATED:20240517T143022Z
LAST-MODIFIED:20240517T143022Z
UID:10000639-1793520000-1796061600@adkncga.org
SUMMARY:Trans Awareness Month
DESCRIPTION:November is Transgender Awareness Month\, an opportunity to celebrate\, honor\, and stand up for our transgender\, non-binary\, and/or gender-expansive (TNG) friends\, family\, and neighbors as we work to raise awareness\, foster understanding\, and celebrate the trans community’s rich tapestry of experiences. \nBy actively participating in the movement\, we can contribute to a world that values and respects every individual\, regardless of their gender identity.
URL:https://adkncga.org/adirondack-north-country-gender-alliance-event/trans-awareness-month/2026-11-01/
CATEGORIES:LGBTQIA+ Holidays & Remembrances
ATTACH;FMTTYPE=image/jpeg:https://adkncga.org/wp-content/uploads/2024/05/Trans-Awareness-Month.jpg
END:VEVENT
BEGIN:VEVENT
DTSTART;TZID=America/New_York:20271101T080000
DTEND;TZID=America/New_York:20271130T170000
DTSTAMP:20260419T173716
CREATED:20240517T143022Z
LAST-MODIFIED:20240517T143022Z
UID:10000640-1825056000-1827594000@adkncga.org
SUMMARY:Trans Awareness Month
DESCRIPTION:November is Transgender Awareness Month\, an opportunity to celebrate\, honor\, and stand up for our transgender\, non-binary\, and/or gender-expansive (TNG) friends\, family\, and neighbors as we work to raise awareness\, foster understanding\, and celebrate the trans community’s rich tapestry of experiences. \nBy actively participating in the movement\, we can contribute to a world that values and respects every individual\, regardless of their gender identity.
URL:https://adkncga.org/adirondack-north-country-gender-alliance-event/trans-awareness-month/2027-11-01/
CATEGORIES:LGBTQIA+ Holidays & Remembrances
ATTACH;FMTTYPE=image/jpeg:https://adkncga.org/wp-content/uploads/2024/05/Trans-Awareness-Month.jpg
END:VEVENT
BEGIN:VEVENT
DTSTART;TZID=America/New_York:20281101T080000
DTEND;TZID=America/New_York:20281130T170000
DTSTAMP:20260419T173716
CREATED:20240517T143022Z
LAST-MODIFIED:20240517T143022Z
UID:10000641-1856678400-1859216400@adkncga.org
SUMMARY:Trans Awareness Month
DESCRIPTION:November is Transgender Awareness Month\, an opportunity to celebrate\, honor\, and stand up for our transgender\, non-binary\, and/or gender-expansive (TNG) friends\, family\, and neighbors as we work to raise awareness\, foster understanding\, and celebrate the trans community’s rich tapestry of experiences. \nBy actively participating in the movement\, we can contribute to a world that values and respects every individual\, regardless of their gender identity.
URL:https://adkncga.org/adirondack-north-country-gender-alliance-event/trans-awareness-month/2028-11-01/
CATEGORIES:LGBTQIA+ Holidays & Remembrances
ATTACH;FMTTYPE=image/jpeg:https://adkncga.org/wp-content/uploads/2024/05/Trans-Awareness-Month.jpg
END:VEVENT
END:VCALENDAR