BEGIN:VCALENDAR
VERSION:2.0
PRODID:-//Adirondack North Country Gender Alliance - ECPv6.15.20//NONSGML v1.0//EN
CALSCALE:GREGORIAN
METHOD:PUBLISH
X-WR-CALNAME:Adirondack North Country Gender Alliance
X-ORIGINAL-URL:https://adkncga.org
X-WR-CALDESC:Events for Adirondack North Country Gender Alliance
REFRESH-INTERVAL;VALUE=DURATION:PT1H
X-Robots-Tag:noindex
X-PUBLISHED-TTL:PT1H
BEGIN:VTIMEZONE
TZID:America/New_York
BEGIN:DAYLIGHT
TZOFFSETFROM:-0500
TZOFFSETTO:-0400
TZNAME:EDT
DTSTART:20250309T070000
END:DAYLIGHT
BEGIN:STANDARD
TZOFFSETFROM:-0400
TZOFFSETTO:-0500
TZNAME:EST
DTSTART:20251102T060000
END:STANDARD
BEGIN:DAYLIGHT
TZOFFSETFROM:-0500
TZOFFSETTO:-0400
TZNAME:EDT
DTSTART:20260308T070000
END:DAYLIGHT
BEGIN:STANDARD
TZOFFSETFROM:-0400
TZOFFSETTO:-0500
TZNAME:EST
DTSTART:20261101T060000
END:STANDARD
BEGIN:DAYLIGHT
TZOFFSETFROM:-0500
TZOFFSETTO:-0400
TZNAME:EDT
DTSTART:20270314T070000
END:DAYLIGHT
BEGIN:STANDARD
TZOFFSETFROM:-0400
TZOFFSETTO:-0500
TZNAME:EST
DTSTART:20271107T060000
END:STANDARD
BEGIN:DAYLIGHT
TZOFFSETFROM:-0500
TZOFFSETTO:-0400
TZNAME:EDT
DTSTART:20280312T070000
END:DAYLIGHT
BEGIN:STANDARD
TZOFFSETFROM:-0400
TZOFFSETTO:-0500
TZNAME:EST
DTSTART:20281105T060000
END:STANDARD
BEGIN:DAYLIGHT
TZOFFSETFROM:-0500
TZOFFSETTO:-0400
TZNAME:EDT
DTSTART:20290311T070000
END:DAYLIGHT
BEGIN:STANDARD
TZOFFSETFROM:-0400
TZOFFSETTO:-0500
TZNAME:EST
DTSTART:20291104T060000
END:STANDARD
END:VTIMEZONE
BEGIN:VEVENT
DTSTART;TZID=America/New_York:20261101T080000
DTEND;TZID=America/New_York:20261101T170000
DTSTAMP:20260419T173729
CREATED:20240517T145208Z
LAST-MODIFIED:20240517T145208Z
UID:10000644-1793520000-1793552400@adkncga.org
SUMMARY:Transgender Parent Day
DESCRIPTION:Transgender Parent Day is celebrated annually on the first Sunday of November. The month of November is chosen because it is Transgender Awareness Month\, and also the month that includes Transgender Day of Remembrance.  \nTransgender Parent Day is a special day celebrated annually to honour and recognise transgender parents and parents of transgender children. This day is opposed to the more traditional Mothers’ or Fathers’ Days.  \nTransgender Parent Day is especially important for transgender parents who may feel isolated or invisible in their communities. It’s a reminder that they are supported\, appreciated\, and accepted for who they are. It’s an opportunity to create a community of support and understanding for transgender parents and their loved ones.  \nWhat does it mean to be transgender? \nBeing transgender is a term used to describe a person whose gender identity does not match the sex they were assigned at birth. It is a gender identity that is independent of biological sex and is may be accompanied with a strong desire to transition to the gender with which one identifies. Transgender people may identify as female\, male\, nonbinary\, gender non-conforming\, or another gender identity that is not binary.
URL:https://adkncga.org/adirondack-north-country-gender-alliance-event/transgender-parent-day/2026-11-01/
CATEGORIES:LGBTQIA+ Holidays & Remembrances
ATTACH;FMTTYPE=image/jpeg:https://adkncga.org/wp-content/uploads/2024/05/Happy-Transgender-Parent-Day.jpg
END:VEVENT
BEGIN:VEVENT
DTSTART;TZID=America/New_York:20271107T080000
DTEND;TZID=America/New_York:20271107T170000
DTSTAMP:20260419T173729
CREATED:20240517T145208Z
LAST-MODIFIED:20240517T145208Z
UID:10000645-1825574400-1825606800@adkncga.org
SUMMARY:Transgender Parent Day
DESCRIPTION:Transgender Parent Day is celebrated annually on the first Sunday of November. The month of November is chosen because it is Transgender Awareness Month\, and also the month that includes Transgender Day of Remembrance.  \nTransgender Parent Day is a special day celebrated annually to honour and recognise transgender parents and parents of transgender children. This day is opposed to the more traditional Mothers’ or Fathers’ Days.  \nTransgender Parent Day is especially important for transgender parents who may feel isolated or invisible in their communities. It’s a reminder that they are supported\, appreciated\, and accepted for who they are. It’s an opportunity to create a community of support and understanding for transgender parents and their loved ones.  \nWhat does it mean to be transgender? \nBeing transgender is a term used to describe a person whose gender identity does not match the sex they were assigned at birth. It is a gender identity that is independent of biological sex and is may be accompanied with a strong desire to transition to the gender with which one identifies. Transgender people may identify as female\, male\, nonbinary\, gender non-conforming\, or another gender identity that is not binary.
URL:https://adkncga.org/adirondack-north-country-gender-alliance-event/transgender-parent-day/2027-11-07/
CATEGORIES:LGBTQIA+ Holidays & Remembrances
ATTACH;FMTTYPE=image/jpeg:https://adkncga.org/wp-content/uploads/2024/05/Happy-Transgender-Parent-Day.jpg
END:VEVENT
BEGIN:VEVENT
DTSTART;TZID=America/New_York:20281105T080000
DTEND;TZID=America/New_York:20281105T170000
DTSTAMP:20260419T173729
CREATED:20240517T145208Z
LAST-MODIFIED:20240517T145208Z
UID:10000646-1857024000-1857056400@adkncga.org
SUMMARY:Transgender Parent Day
DESCRIPTION:Transgender Parent Day is celebrated annually on the first Sunday of November. The month of November is chosen because it is Transgender Awareness Month\, and also the month that includes Transgender Day of Remembrance.  \nTransgender Parent Day is a special day celebrated annually to honour and recognise transgender parents and parents of transgender children. This day is opposed to the more traditional Mothers’ or Fathers’ Days.  \nTransgender Parent Day is especially important for transgender parents who may feel isolated or invisible in their communities. It’s a reminder that they are supported\, appreciated\, and accepted for who they are. It’s an opportunity to create a community of support and understanding for transgender parents and their loved ones.  \nWhat does it mean to be transgender? \nBeing transgender is a term used to describe a person whose gender identity does not match the sex they were assigned at birth. It is a gender identity that is independent of biological sex and is may be accompanied with a strong desire to transition to the gender with which one identifies. Transgender people may identify as female\, male\, nonbinary\, gender non-conforming\, or another gender identity that is not binary.
URL:https://adkncga.org/adirondack-north-country-gender-alliance-event/transgender-parent-day/2028-11-05/
CATEGORIES:LGBTQIA+ Holidays & Remembrances
ATTACH;FMTTYPE=image/jpeg:https://adkncga.org/wp-content/uploads/2024/05/Happy-Transgender-Parent-Day.jpg
END:VEVENT
END:VCALENDAR