BEGIN:VCALENDAR
VERSION:2.0
PRODID:-//Adirondack North Country Gender Alliance - ECPv6.15.20//NONSGML v1.0//EN
CALSCALE:GREGORIAN
METHOD:PUBLISH
X-ORIGINAL-URL:https://adkncga.org
X-WR-CALDESC:Events for Adirondack North Country Gender Alliance
REFRESH-INTERVAL;VALUE=DURATION:PT1H
X-Robots-Tag:noindex
X-PUBLISHED-TTL:PT1H
BEGIN:VTIMEZONE
TZID:America/New_York
BEGIN:DAYLIGHT
TZOFFSETFROM:-0500
TZOFFSETTO:-0400
TZNAME:EDT
DTSTART:20250309T070000
END:DAYLIGHT
BEGIN:STANDARD
TZOFFSETFROM:-0400
TZOFFSETTO:-0500
TZNAME:EST
DTSTART:20251102T060000
END:STANDARD
BEGIN:DAYLIGHT
TZOFFSETFROM:-0500
TZOFFSETTO:-0400
TZNAME:EDT
DTSTART:20260308T070000
END:DAYLIGHT
BEGIN:STANDARD
TZOFFSETFROM:-0400
TZOFFSETTO:-0500
TZNAME:EST
DTSTART:20261101T060000
END:STANDARD
BEGIN:DAYLIGHT
TZOFFSETFROM:-0500
TZOFFSETTO:-0400
TZNAME:EDT
DTSTART:20270314T070000
END:DAYLIGHT
BEGIN:STANDARD
TZOFFSETFROM:-0400
TZOFFSETTO:-0500
TZNAME:EST
DTSTART:20271107T060000
END:STANDARD
END:VTIMEZONE
BEGIN:VEVENT
DTSTART;TZID=America/New_York:20261210T080000
DTEND;TZID=America/New_York:20261210T170000
DTSTAMP:20260421T165211
CREATED:20240517T151919Z
LAST-MODIFIED:20240517T151919Z
UID:10000669-1796889600-1796922000@adkncga.org
SUMMARY:Human Rights Day
DESCRIPTION:Human Rights Day is observed by the international community every year on 10 December. It commemorates the day in 1948 the United Nations General Assembly adopted the Universal Declaration of Human Rights. \nThe formal inception of Human Rights Day dates from 1950\, after the Assembly passed resolution 423 (V) inviting all States and interested organizations to adopt December 10 of each year as Human Rights Day. \nWhen the General Assembly adopted the Declaration\, it was proclaimed as a “common standard of achievement for all peoples and all nations”\, towards which individuals and societies should “strive by progressive measures\, national and international\, to secure their universal and effective recognition and observance”. \nThe Universal Declaration of Human Rights sets out a broad range of fundamental rights and freedoms to which all of us are entitled. It guarantees the rights of every individual everywhere\, without distinction based on nationality\, place of residence\, gender\, national or ethnic origin\, religion\, language\, or any other status. \nAlthough the Declaration is not a binding document\, it inspired more than 60 human rights instruments which together constitute an international standard of human rights. Today the general consent of all United Nations Member States on the basic Human Rights laid down in the Declaration makes it even stronger and emphasizes the relevance of Human Rights in our daily lives. \nThe High Commissioner for Human Rights\, as the main United Nations rights official\, and the Office of the High Commissioner play a major role in coordinating efforts for the yearly observation of Human Rights Day.
URL:https://adkncga.org/adirondack-north-country-gender-alliance-event/human-rights-day/2026-12-10/
CATEGORIES:LGBTQIA+ Holidays & Remembrances
ATTACH;FMTTYPE=image/jpeg:https://adkncga.org/wp-content/uploads/2024/05/Human-Rights-Day.jpg
END:VEVENT
END:VCALENDAR