BEGIN:VCALENDAR
VERSION:2.0
PRODID:-//Adirondack North Country Gender Alliance - ECPv6.15.20//NONSGML v1.0//EN
CALSCALE:GREGORIAN
METHOD:PUBLISH
X-WR-CALNAME:Adirondack North Country Gender Alliance
X-ORIGINAL-URL:https://adkncga.org
X-WR-CALDESC:Events for Adirondack North Country Gender Alliance
REFRESH-INTERVAL;VALUE=DURATION:PT1H
X-Robots-Tag:noindex
X-PUBLISHED-TTL:PT1H
BEGIN:VTIMEZONE
TZID:America/New_York
BEGIN:DAYLIGHT
TZOFFSETFROM:-0500
TZOFFSETTO:-0400
TZNAME:EDT
DTSTART:20230312T070000
END:DAYLIGHT
BEGIN:STANDARD
TZOFFSETFROM:-0400
TZOFFSETTO:-0500
TZNAME:EST
DTSTART:20231105T060000
END:STANDARD
BEGIN:DAYLIGHT
TZOFFSETFROM:-0500
TZOFFSETTO:-0400
TZNAME:EDT
DTSTART:20240310T070000
END:DAYLIGHT
BEGIN:STANDARD
TZOFFSETFROM:-0400
TZOFFSETTO:-0500
TZNAME:EST
DTSTART:20241103T060000
END:STANDARD
BEGIN:DAYLIGHT
TZOFFSETFROM:-0500
TZOFFSETTO:-0400
TZNAME:EDT
DTSTART:20250309T070000
END:DAYLIGHT
BEGIN:STANDARD
TZOFFSETFROM:-0400
TZOFFSETTO:-0500
TZNAME:EST
DTSTART:20251102T060000
END:STANDARD
BEGIN:DAYLIGHT
TZOFFSETFROM:-0500
TZOFFSETTO:-0400
TZNAME:EDT
DTSTART:20260308T070000
END:DAYLIGHT
BEGIN:STANDARD
TZOFFSETFROM:-0400
TZOFFSETTO:-0500
TZNAME:EST
DTSTART:20261101T060000
END:STANDARD
END:VTIMEZONE
BEGIN:VEVENT
DTSTART;TZID=America/New_York:20250325T173000
DTEND;TZID=America/New_York:20250325T193000
DTSTAMP:20260420T133247
CREATED:20240516T122734Z
LAST-MODIFIED:20250110T160650Z
UID:10000681-1742923800-1742931000@adkncga.org
SUMMARY:LGBTQAI+ Mixer - Saranac Lake - Bitters and Bones
DESCRIPTION:Join us for our monthly LGBTQ Mixer at Bitters and Bones in Saranac Lake! \nCome and join us on the last Tuesday of each month from 5:30pm – 7:30pm \nGood people. Good food. Good drinks. Non-ETOH drink options provided. Kitchen open until 9pm. \nAn Adirondack brewery and restaurant\, Bitters & Bones offers craft beer made onsite\, signature cocktails\, and fresh local cuisine – all made with love.\nDine indoors in our rustic-industrial tavern or on our rooftop deck during summer months. \nBitters and Bones\n65 Broadway Street\nSaranac Lake\, NY 12983 \nPh: (518) 354-8270
URL:https://adkncga.org/adirondack-north-country-gender-alliance-event/lgbtq-mixer-saranac-lake-bitters-and-bones/2025-03-25/
LOCATION:Bitters and Bones\, 65 Broadway Street\, Saranac Lake\, 12983\, United States
CATEGORIES:ANCGA Events
ATTACH;FMTTYPE=image/jpeg:https://adkncga.org/wp-content/uploads/2024/05/Logo-Bitters-and-Bones-1.jpg
END:VEVENT
BEGIN:VEVENT
DTSTART;TZID=America/New_York:20250225T173000
DTEND;TZID=America/New_York:20250225T193000
DTSTAMP:20260420T133247
CREATED:20240516T122734Z
LAST-MODIFIED:20250110T160650Z
UID:10000680-1740504600-1740511800@adkncga.org
SUMMARY:LGBTQAI+ Mixer - Saranac Lake - Bitters and Bones
DESCRIPTION:Join us for our monthly LGBTQ Mixer at Bitters and Bones in Saranac Lake! \nCome and join us on the last Tuesday of each month from 5:30pm – 7:30pm \nGood people. Good food. Good drinks. Non-ETOH drink options provided. Kitchen open until 9pm. \nAn Adirondack brewery and restaurant\, Bitters & Bones offers craft beer made onsite\, signature cocktails\, and fresh local cuisine – all made with love.\nDine indoors in our rustic-industrial tavern or on our rooftop deck during summer months. \nBitters and Bones\n65 Broadway Street\nSaranac Lake\, NY 12983 \nPh: (518) 354-8270
URL:https://adkncga.org/adirondack-north-country-gender-alliance-event/lgbtq-mixer-saranac-lake-bitters-and-bones/2025-02-25/
LOCATION:Bitters and Bones\, 65 Broadway Street\, Saranac Lake\, 12983\, United States
CATEGORIES:ANCGA Events
ATTACH;FMTTYPE=image/jpeg:https://adkncga.org/wp-content/uploads/2024/05/Logo-Bitters-and-Bones-1.jpg
END:VEVENT
BEGIN:VEVENT
DTSTART;TZID=America/New_York:20250128T173000
DTEND;TZID=America/New_York:20250128T193000
DTSTAMP:20260420T133247
CREATED:20240516T122734Z
LAST-MODIFIED:20250110T160650Z
UID:10000679-1738085400-1738092600@adkncga.org
SUMMARY:LGBTQAI+ Mixer - Saranac Lake - Bitters and Bones
DESCRIPTION:Join us for our monthly LGBTQ Mixer at Bitters and Bones in Saranac Lake! \nCome and join us on the last Tuesday of each month from 5:30pm – 7:30pm \nGood people. Good food. Good drinks. Non-ETOH drink options provided. Kitchen open until 9pm. \nAn Adirondack brewery and restaurant\, Bitters & Bones offers craft beer made onsite\, signature cocktails\, and fresh local cuisine – all made with love.\nDine indoors in our rustic-industrial tavern or on our rooftop deck during summer months. \nBitters and Bones\n65 Broadway Street\nSaranac Lake\, NY 12983 \nPh: (518) 354-8270
URL:https://adkncga.org/adirondack-north-country-gender-alliance-event/lgbtq-mixer-saranac-lake-bitters-and-bones/2025-01-28/
LOCATION:Bitters and Bones\, 65 Broadway Street\, Saranac Lake\, 12983\, United States
CATEGORIES:ANCGA Events
ATTACH;FMTTYPE=image/jpeg:https://adkncga.org/wp-content/uploads/2024/05/Logo-Bitters-and-Bones-1.jpg
END:VEVENT
BEGIN:VEVENT
DTSTART;TZID=America/New_York:20241231T173000
DTEND;TZID=America/New_York:20241231T193000
DTSTAMP:20260420T133247
CREATED:20240516T122734Z
LAST-MODIFIED:20250110T160650Z
UID:10000678-1735666200-1735673400@adkncga.org
SUMMARY:LGBTQAI+ Mixer - Saranac Lake - Bitters and Bones
DESCRIPTION:Join us for our monthly LGBTQ Mixer at Bitters and Bones in Saranac Lake! \nCome and join us on the last Tuesday of each month from 5:30pm – 7:30pm \nGood people. Good food. Good drinks. Non-ETOH drink options provided. Kitchen open until 9pm. \nAn Adirondack brewery and restaurant\, Bitters & Bones offers craft beer made onsite\, signature cocktails\, and fresh local cuisine – all made with love.\nDine indoors in our rustic-industrial tavern or on our rooftop deck during summer months. \nBitters and Bones\n65 Broadway Street\nSaranac Lake\, NY 12983 \nPh: (518) 354-8270
URL:https://adkncga.org/adirondack-north-country-gender-alliance-event/lgbtq-mixer-saranac-lake-bitters-and-bones/2024-12-31/
LOCATION:Bitters and Bones\, 65 Broadway Street\, Saranac Lake\, 12983\, United States
CATEGORIES:ANCGA Events
ATTACH;FMTTYPE=image/jpeg:https://adkncga.org/wp-content/uploads/2024/05/Logo-Bitters-and-Bones-1.jpg
END:VEVENT
BEGIN:VEVENT
DTSTART;TZID=America/New_York:20241126T173000
DTEND;TZID=America/New_York:20241126T193000
DTSTAMP:20260420T133247
CREATED:20240516T122734Z
LAST-MODIFIED:20250110T160650Z
UID:10000677-1732642200-1732649400@adkncga.org
SUMMARY:LGBTQAI+ Mixer - Saranac Lake - Bitters and Bones
DESCRIPTION:Join us for our monthly LGBTQ Mixer at Bitters and Bones in Saranac Lake! \nCome and join us on the last Tuesday of each month from 5:30pm – 7:30pm \nGood people. Good food. Good drinks. Non-ETOH drink options provided. Kitchen open until 9pm. \nAn Adirondack brewery and restaurant\, Bitters & Bones offers craft beer made onsite\, signature cocktails\, and fresh local cuisine – all made with love.\nDine indoors in our rustic-industrial tavern or on our rooftop deck during summer months. \nBitters and Bones\n65 Broadway Street\nSaranac Lake\, NY 12983 \nPh: (518) 354-8270
URL:https://adkncga.org/adirondack-north-country-gender-alliance-event/lgbtq-mixer-saranac-lake-bitters-and-bones/2024-11-26/
LOCATION:Bitters and Bones\, 65 Broadway Street\, Saranac Lake\, 12983\, United States
CATEGORIES:ANCGA Events
ATTACH;FMTTYPE=image/jpeg:https://adkncga.org/wp-content/uploads/2024/05/Logo-Bitters-and-Bones-1.jpg
END:VEVENT
BEGIN:VEVENT
DTSTART;TZID=America/New_York:20241029T173000
DTEND;TZID=America/New_York:20241029T193000
DTSTAMP:20260420T133247
CREATED:20240516T122734Z
LAST-MODIFIED:20250110T160650Z
UID:10000676-1730223000-1730230200@adkncga.org
SUMMARY:LGBTQAI+ Mixer - Saranac Lake - Bitters and Bones
DESCRIPTION:Join us for our monthly LGBTQ Mixer at Bitters and Bones in Saranac Lake! \nCome and join us on the last Tuesday of each month from 5:30pm – 7:30pm \nGood people. Good food. Good drinks. Non-ETOH drink options provided. Kitchen open until 9pm. \nAn Adirondack brewery and restaurant\, Bitters & Bones offers craft beer made onsite\, signature cocktails\, and fresh local cuisine – all made with love.\nDine indoors in our rustic-industrial tavern or on our rooftop deck during summer months. \nBitters and Bones\n65 Broadway Street\nSaranac Lake\, NY 12983 \nPh: (518) 354-8270
URL:https://adkncga.org/adirondack-north-country-gender-alliance-event/lgbtq-mixer-saranac-lake-bitters-and-bones/2024-10-29/
LOCATION:Bitters and Bones\, 65 Broadway Street\, Saranac Lake\, 12983\, United States
CATEGORIES:ANCGA Events
ATTACH;FMTTYPE=image/jpeg:https://adkncga.org/wp-content/uploads/2024/05/Logo-Bitters-and-Bones-1.jpg
END:VEVENT
BEGIN:VEVENT
DTSTART;TZID=America/New_York:20240924T173000
DTEND;TZID=America/New_York:20240924T193000
DTSTAMP:20260420T133247
CREATED:20240516T122734Z
LAST-MODIFIED:20250110T160650Z
UID:10000675-1727199000-1727206200@adkncga.org
SUMMARY:LGBTQAI+ Mixer - Saranac Lake - Bitters and Bones
DESCRIPTION:Join us for our monthly LGBTQ Mixer at Bitters and Bones in Saranac Lake! \nCome and join us on the last Tuesday of each month from 5:30pm – 7:30pm \nGood people. Good food. Good drinks. Non-ETOH drink options provided. Kitchen open until 9pm. \nAn Adirondack brewery and restaurant\, Bitters & Bones offers craft beer made onsite\, signature cocktails\, and fresh local cuisine – all made with love.\nDine indoors in our rustic-industrial tavern or on our rooftop deck during summer months. \nBitters and Bones\n65 Broadway Street\nSaranac Lake\, NY 12983 \nPh: (518) 354-8270
URL:https://adkncga.org/adirondack-north-country-gender-alliance-event/lgbtq-mixer-saranac-lake-bitters-and-bones/2024-09-24/
LOCATION:Bitters and Bones\, 65 Broadway Street\, Saranac Lake\, 12983\, United States
CATEGORIES:ANCGA Events
ATTACH;FMTTYPE=image/jpeg:https://adkncga.org/wp-content/uploads/2024/05/Logo-Bitters-and-Bones-1.jpg
END:VEVENT
BEGIN:VEVENT
DTSTART;TZID=America/New_York:20240827T173000
DTEND;TZID=America/New_York:20240827T193000
DTSTAMP:20260420T133247
CREATED:20240516T122734Z
LAST-MODIFIED:20250110T160650Z
UID:10000674-1724779800-1724787000@adkncga.org
SUMMARY:LGBTQAI+ Mixer - Saranac Lake - Bitters and Bones
DESCRIPTION:Join us for our monthly LGBTQ Mixer at Bitters and Bones in Saranac Lake! \nCome and join us on the last Tuesday of each month from 5:30pm – 7:30pm \nGood people. Good food. Good drinks. Non-ETOH drink options provided. Kitchen open until 9pm. \nAn Adirondack brewery and restaurant\, Bitters & Bones offers craft beer made onsite\, signature cocktails\, and fresh local cuisine – all made with love.\nDine indoors in our rustic-industrial tavern or on our rooftop deck during summer months. \nBitters and Bones\n65 Broadway Street\nSaranac Lake\, NY 12983 \nPh: (518) 354-8270
URL:https://adkncga.org/adirondack-north-country-gender-alliance-event/lgbtq-mixer-saranac-lake-bitters-and-bones/2024-08-27/
LOCATION:Bitters and Bones\, 65 Broadway Street\, Saranac Lake\, 12983\, United States
CATEGORIES:ANCGA Events
ATTACH;FMTTYPE=image/jpeg:https://adkncga.org/wp-content/uploads/2024/05/Logo-Bitters-and-Bones-1.jpg
END:VEVENT
BEGIN:VEVENT
DTSTART;TZID=America/New_York:20240730T173000
DTEND;TZID=America/New_York:20240730T193000
DTSTAMP:20260420T133247
CREATED:20240516T122734Z
LAST-MODIFIED:20250110T160650Z
UID:10000673-1722360600-1722367800@adkncga.org
SUMMARY:LGBTQAI+ Mixer - Saranac Lake - Bitters and Bones
DESCRIPTION:Join us for our monthly LGBTQ Mixer at Bitters and Bones in Saranac Lake! \nCome and join us on the last Tuesday of each month from 5:30pm – 7:30pm \nGood people. Good food. Good drinks. Non-ETOH drink options provided. Kitchen open until 9pm. \nAn Adirondack brewery and restaurant\, Bitters & Bones offers craft beer made onsite\, signature cocktails\, and fresh local cuisine – all made with love.\nDine indoors in our rustic-industrial tavern or on our rooftop deck during summer months. \nBitters and Bones\n65 Broadway Street\nSaranac Lake\, NY 12983 \nPh: (518) 354-8270
URL:https://adkncga.org/adirondack-north-country-gender-alliance-event/lgbtq-mixer-saranac-lake-bitters-and-bones/2024-07-30/
LOCATION:Bitters and Bones\, 65 Broadway Street\, Saranac Lake\, 12983\, United States
CATEGORIES:ANCGA Events
ATTACH;FMTTYPE=image/jpeg:https://adkncga.org/wp-content/uploads/2024/05/Logo-Bitters-and-Bones-1.jpg
END:VEVENT
BEGIN:VEVENT
DTSTART;TZID=America/New_York:20240625T173000
DTEND;TZID=America/New_York:20240625T193000
DTSTAMP:20260420T133247
CREATED:20240516T122734Z
LAST-MODIFIED:20250110T160650Z
UID:10000672-1719336600-1719343800@adkncga.org
SUMMARY:LGBTQAI+ Mixer - Saranac Lake - Bitters and Bones
DESCRIPTION:Join us for our monthly LGBTQ Mixer at Bitters and Bones in Saranac Lake! \nCome and join us on the last Tuesday of each month from 5:30pm – 7:30pm \nGood people. Good food. Good drinks. Non-ETOH drink options provided. Kitchen open until 9pm. \nAn Adirondack brewery and restaurant\, Bitters & Bones offers craft beer made onsite\, signature cocktails\, and fresh local cuisine – all made with love.\nDine indoors in our rustic-industrial tavern or on our rooftop deck during summer months. \nBitters and Bones\n65 Broadway Street\nSaranac Lake\, NY 12983 \nPh: (518) 354-8270
URL:https://adkncga.org/adirondack-north-country-gender-alliance-event/lgbtq-mixer-saranac-lake-bitters-and-bones/2024-06-25/
LOCATION:Bitters and Bones\, 65 Broadway Street\, Saranac Lake\, 12983\, United States
CATEGORIES:ANCGA Events
ATTACH;FMTTYPE=image/jpeg:https://adkncga.org/wp-content/uploads/2024/05/Logo-Bitters-and-Bones-1.jpg
END:VEVENT
END:VCALENDAR