BEGIN:VCALENDAR
VERSION:2.0
PRODID:-//Adirondack North Country Gender Alliance - ECPv6.15.20//NONSGML v1.0//EN
CALSCALE:GREGORIAN
METHOD:PUBLISH
X-ORIGINAL-URL:https://adkncga.org
X-WR-CALDESC:Events for Adirondack North Country Gender Alliance
REFRESH-INTERVAL;VALUE=DURATION:PT1H
X-Robots-Tag:noindex
X-PUBLISHED-TTL:PT1H
BEGIN:VTIMEZONE
TZID:America/New_York
BEGIN:DAYLIGHT
TZOFFSETFROM:-0500
TZOFFSETTO:-0400
TZNAME:EDT
DTSTART:20280312T070000
END:DAYLIGHT
BEGIN:STANDARD
TZOFFSETFROM:-0400
TZOFFSETTO:-0500
TZNAME:EST
DTSTART:20281105T060000
END:STANDARD
BEGIN:DAYLIGHT
TZOFFSETFROM:-0500
TZOFFSETTO:-0400
TZNAME:EDT
DTSTART:20290311T070000
END:DAYLIGHT
BEGIN:STANDARD
TZOFFSETFROM:-0400
TZOFFSETTO:-0500
TZNAME:EST
DTSTART:20291104T060000
END:STANDARD
BEGIN:DAYLIGHT
TZOFFSETFROM:-0500
TZOFFSETTO:-0400
TZNAME:EDT
DTSTART:20300310T070000
END:DAYLIGHT
BEGIN:STANDARD
TZOFFSETFROM:-0400
TZOFFSETTO:-0500
TZNAME:EST
DTSTART:20301103T060000
END:STANDARD
END:VTIMEZONE
BEGIN:VEVENT
DTSTART;TZID=America/New_York:20290424T173000
DTEND;TZID=America/New_York:20290424T193000
DTSTAMP:20260420T152843
CREATED:20240516T122734Z
LAST-MODIFIED:20250110T160650Z
UID:10000730-1871746200-1871753400@adkncga.org
SUMMARY:LGBTQAI+ Mixer - Saranac Lake - Bitters and Bones
DESCRIPTION:Join us for our monthly LGBTQ Mixer at Bitters and Bones in Saranac Lake! \nCome and join us on the last Tuesday of each month from 5:30pm – 7:30pm \nGood people. Good food. Good drinks. Non-ETOH drink options provided. Kitchen open until 9pm. \nAn Adirondack brewery and restaurant\, Bitters & Bones offers craft beer made onsite\, signature cocktails\, and fresh local cuisine – all made with love.\nDine indoors in our rustic-industrial tavern or on our rooftop deck during summer months. \nBitters and Bones\n65 Broadway Street\nSaranac Lake\, NY 12983 \nPh: (518) 354-8270
URL:https://adkncga.org/adirondack-north-country-gender-alliance-event/lgbtq-mixer-saranac-lake-bitters-and-bones/2029-04-24/
LOCATION:Bitters and Bones\, 65 Broadway Street\, Saranac Lake\, 12983\, United States
CATEGORIES:ANCGA Events
ATTACH;FMTTYPE=image/jpeg:https://adkncga.org/wp-content/uploads/2024/05/Logo-Bitters-and-Bones-1.jpg
END:VEVENT
BEGIN:VEVENT
DTSTART;TZID=America/New_York:20290529T173000
DTEND;TZID=America/New_York:20290529T193000
DTSTAMP:20260420T152843
CREATED:20240516T122734Z
LAST-MODIFIED:20250110T160650Z
UID:10000915-1874770200-1874777400@adkncga.org
SUMMARY:LGBTQAI+ Mixer - Saranac Lake - Bitters and Bones
DESCRIPTION:Join us for our monthly LGBTQ Mixer at Bitters and Bones in Saranac Lake! \nCome and join us on the last Tuesday of each month from 5:30pm – 7:30pm \nGood people. Good food. Good drinks. Non-ETOH drink options provided. Kitchen open until 9pm. \nAn Adirondack brewery and restaurant\, Bitters & Bones offers craft beer made onsite\, signature cocktails\, and fresh local cuisine – all made with love.\nDine indoors in our rustic-industrial tavern or on our rooftop deck during summer months. \nBitters and Bones\n65 Broadway Street\nSaranac Lake\, NY 12983 \nPh: (518) 354-8270
URL:https://adkncga.org/adirondack-north-country-gender-alliance-event/lgbtq-mixer-saranac-lake-bitters-and-bones/2029-05-29/
LOCATION:Bitters and Bones\, 65 Broadway Street\, Saranac Lake\, 12983\, United States
CATEGORIES:ANCGA Events
ATTACH;FMTTYPE=image/jpeg:https://adkncga.org/wp-content/uploads/2024/05/Logo-Bitters-and-Bones-1.jpg
END:VEVENT
BEGIN:VEVENT
DTSTART;TZID=America/New_York:20290626T173000
DTEND;TZID=America/New_York:20290626T193000
DTSTAMP:20260420T152843
CREATED:20240516T122734Z
LAST-MODIFIED:20250110T160650Z
UID:10000916-1877189400-1877196600@adkncga.org
SUMMARY:LGBTQAI+ Mixer - Saranac Lake - Bitters and Bones
DESCRIPTION:Join us for our monthly LGBTQ Mixer at Bitters and Bones in Saranac Lake! \nCome and join us on the last Tuesday of each month from 5:30pm – 7:30pm \nGood people. Good food. Good drinks. Non-ETOH drink options provided. Kitchen open until 9pm. \nAn Adirondack brewery and restaurant\, Bitters & Bones offers craft beer made onsite\, signature cocktails\, and fresh local cuisine – all made with love.\nDine indoors in our rustic-industrial tavern or on our rooftop deck during summer months. \nBitters and Bones\n65 Broadway Street\nSaranac Lake\, NY 12983 \nPh: (518) 354-8270
URL:https://adkncga.org/adirondack-north-country-gender-alliance-event/lgbtq-mixer-saranac-lake-bitters-and-bones/2029-06-26/
LOCATION:Bitters and Bones\, 65 Broadway Street\, Saranac Lake\, 12983\, United States
CATEGORIES:ANCGA Events
ATTACH;FMTTYPE=image/jpeg:https://adkncga.org/wp-content/uploads/2024/05/Logo-Bitters-and-Bones-1.jpg
END:VEVENT
BEGIN:VEVENT
DTSTART;TZID=America/New_York:20290731T173000
DTEND;TZID=America/New_York:20290731T193000
DTSTAMP:20260420T152843
CREATED:20240516T122734Z
LAST-MODIFIED:20250110T160650Z
UID:10000917-1880213400-1880220600@adkncga.org
SUMMARY:LGBTQAI+ Mixer - Saranac Lake - Bitters and Bones
DESCRIPTION:Join us for our monthly LGBTQ Mixer at Bitters and Bones in Saranac Lake! \nCome and join us on the last Tuesday of each month from 5:30pm – 7:30pm \nGood people. Good food. Good drinks. Non-ETOH drink options provided. Kitchen open until 9pm. \nAn Adirondack brewery and restaurant\, Bitters & Bones offers craft beer made onsite\, signature cocktails\, and fresh local cuisine – all made with love.\nDine indoors in our rustic-industrial tavern or on our rooftop deck during summer months. \nBitters and Bones\n65 Broadway Street\nSaranac Lake\, NY 12983 \nPh: (518) 354-8270
URL:https://adkncga.org/adirondack-north-country-gender-alliance-event/lgbtq-mixer-saranac-lake-bitters-and-bones/2029-07-31/
LOCATION:Bitters and Bones\, 65 Broadway Street\, Saranac Lake\, 12983\, United States
CATEGORIES:ANCGA Events
ATTACH;FMTTYPE=image/jpeg:https://adkncga.org/wp-content/uploads/2024/05/Logo-Bitters-and-Bones-1.jpg
END:VEVENT
BEGIN:VEVENT
DTSTART;TZID=America/New_York:20290828T173000
DTEND;TZID=America/New_York:20290828T193000
DTSTAMP:20260420T152843
CREATED:20240516T122734Z
LAST-MODIFIED:20250110T160650Z
UID:10000918-1882632600-1882639800@adkncga.org
SUMMARY:LGBTQAI+ Mixer - Saranac Lake - Bitters and Bones
DESCRIPTION:Join us for our monthly LGBTQ Mixer at Bitters and Bones in Saranac Lake! \nCome and join us on the last Tuesday of each month from 5:30pm – 7:30pm \nGood people. Good food. Good drinks. Non-ETOH drink options provided. Kitchen open until 9pm. \nAn Adirondack brewery and restaurant\, Bitters & Bones offers craft beer made onsite\, signature cocktails\, and fresh local cuisine – all made with love.\nDine indoors in our rustic-industrial tavern or on our rooftop deck during summer months. \nBitters and Bones\n65 Broadway Street\nSaranac Lake\, NY 12983 \nPh: (518) 354-8270
URL:https://adkncga.org/adirondack-north-country-gender-alliance-event/lgbtq-mixer-saranac-lake-bitters-and-bones/2029-08-28/
LOCATION:Bitters and Bones\, 65 Broadway Street\, Saranac Lake\, 12983\, United States
CATEGORIES:ANCGA Events
ATTACH;FMTTYPE=image/jpeg:https://adkncga.org/wp-content/uploads/2024/05/Logo-Bitters-and-Bones-1.jpg
END:VEVENT
BEGIN:VEVENT
DTSTART;TZID=America/New_York:20290925T173000
DTEND;TZID=America/New_York:20290925T193000
DTSTAMP:20260420T152843
CREATED:20240516T122734Z
LAST-MODIFIED:20250110T160650Z
UID:10000919-1885051800-1885059000@adkncga.org
SUMMARY:LGBTQAI+ Mixer - Saranac Lake - Bitters and Bones
DESCRIPTION:Join us for our monthly LGBTQ Mixer at Bitters and Bones in Saranac Lake! \nCome and join us on the last Tuesday of each month from 5:30pm – 7:30pm \nGood people. Good food. Good drinks. Non-ETOH drink options provided. Kitchen open until 9pm. \nAn Adirondack brewery and restaurant\, Bitters & Bones offers craft beer made onsite\, signature cocktails\, and fresh local cuisine – all made with love.\nDine indoors in our rustic-industrial tavern or on our rooftop deck during summer months. \nBitters and Bones\n65 Broadway Street\nSaranac Lake\, NY 12983 \nPh: (518) 354-8270
URL:https://adkncga.org/adirondack-north-country-gender-alliance-event/lgbtq-mixer-saranac-lake-bitters-and-bones/2029-09-25/
LOCATION:Bitters and Bones\, 65 Broadway Street\, Saranac Lake\, 12983\, United States
CATEGORIES:ANCGA Events
ATTACH;FMTTYPE=image/jpeg:https://adkncga.org/wp-content/uploads/2024/05/Logo-Bitters-and-Bones-1.jpg
END:VEVENT
BEGIN:VEVENT
DTSTART;TZID=America/New_York:20291030T173000
DTEND;TZID=America/New_York:20291030T193000
DTSTAMP:20260420T152843
CREATED:20240516T122734Z
LAST-MODIFIED:20250110T160650Z
UID:10000920-1888075800-1888083000@adkncga.org
SUMMARY:LGBTQAI+ Mixer - Saranac Lake - Bitters and Bones
DESCRIPTION:Join us for our monthly LGBTQ Mixer at Bitters and Bones in Saranac Lake! \nCome and join us on the last Tuesday of each month from 5:30pm – 7:30pm \nGood people. Good food. Good drinks. Non-ETOH drink options provided. Kitchen open until 9pm. \nAn Adirondack brewery and restaurant\, Bitters & Bones offers craft beer made onsite\, signature cocktails\, and fresh local cuisine – all made with love.\nDine indoors in our rustic-industrial tavern or on our rooftop deck during summer months. \nBitters and Bones\n65 Broadway Street\nSaranac Lake\, NY 12983 \nPh: (518) 354-8270
URL:https://adkncga.org/adirondack-north-country-gender-alliance-event/lgbtq-mixer-saranac-lake-bitters-and-bones/2029-10-30/
LOCATION:Bitters and Bones\, 65 Broadway Street\, Saranac Lake\, 12983\, United States
CATEGORIES:ANCGA Events
ATTACH;FMTTYPE=image/jpeg:https://adkncga.org/wp-content/uploads/2024/05/Logo-Bitters-and-Bones-1.jpg
END:VEVENT
BEGIN:VEVENT
DTSTART;TZID=America/New_York:20291127T173000
DTEND;TZID=America/New_York:20291127T193000
DTSTAMP:20260420T152843
CREATED:20240516T122734Z
LAST-MODIFIED:20250110T160650Z
UID:10000921-1890495000-1890502200@adkncga.org
SUMMARY:LGBTQAI+ Mixer - Saranac Lake - Bitters and Bones
DESCRIPTION:Join us for our monthly LGBTQ Mixer at Bitters and Bones in Saranac Lake! \nCome and join us on the last Tuesday of each month from 5:30pm – 7:30pm \nGood people. Good food. Good drinks. Non-ETOH drink options provided. Kitchen open until 9pm. \nAn Adirondack brewery and restaurant\, Bitters & Bones offers craft beer made onsite\, signature cocktails\, and fresh local cuisine – all made with love.\nDine indoors in our rustic-industrial tavern or on our rooftop deck during summer months. \nBitters and Bones\n65 Broadway Street\nSaranac Lake\, NY 12983 \nPh: (518) 354-8270
URL:https://adkncga.org/adirondack-north-country-gender-alliance-event/lgbtq-mixer-saranac-lake-bitters-and-bones/2029-11-27/
LOCATION:Bitters and Bones\, 65 Broadway Street\, Saranac Lake\, 12983\, United States
CATEGORIES:ANCGA Events
ATTACH;FMTTYPE=image/jpeg:https://adkncga.org/wp-content/uploads/2024/05/Logo-Bitters-and-Bones-1.jpg
END:VEVENT
BEGIN:VEVENT
DTSTART;TZID=America/New_York:20291225T173000
DTEND;TZID=America/New_York:20291225T193000
DTSTAMP:20260420T152843
CREATED:20240516T122734Z
LAST-MODIFIED:20250110T160650Z
UID:10000922-1892914200-1892921400@adkncga.org
SUMMARY:LGBTQAI+ Mixer - Saranac Lake - Bitters and Bones
DESCRIPTION:Join us for our monthly LGBTQ Mixer at Bitters and Bones in Saranac Lake! \nCome and join us on the last Tuesday of each month from 5:30pm – 7:30pm \nGood people. Good food. Good drinks. Non-ETOH drink options provided. Kitchen open until 9pm. \nAn Adirondack brewery and restaurant\, Bitters & Bones offers craft beer made onsite\, signature cocktails\, and fresh local cuisine – all made with love.\nDine indoors in our rustic-industrial tavern or on our rooftop deck during summer months. \nBitters and Bones\n65 Broadway Street\nSaranac Lake\, NY 12983 \nPh: (518) 354-8270
URL:https://adkncga.org/adirondack-north-country-gender-alliance-event/lgbtq-mixer-saranac-lake-bitters-and-bones/2029-12-25/
LOCATION:Bitters and Bones\, 65 Broadway Street\, Saranac Lake\, 12983\, United States
CATEGORIES:ANCGA Events
ATTACH;FMTTYPE=image/jpeg:https://adkncga.org/wp-content/uploads/2024/05/Logo-Bitters-and-Bones-1.jpg
END:VEVENT
END:VCALENDAR